BEGIN:VCALENDAR
VERSION:2.0
PRODID:-//ChamberMaster//Event Calendar 2.0//EN
METHOD:PUBLISH
X-PUBLISHED-TTL:P3D
REFRESH-INTERVAL:P3D
CALSCALE:GREGORIAN
BEGIN:VEVENT
DTSTART:20230325T220000Z
DTEND:20230326T010000Z
X-MICROSOFT-CDO-ALLDAYEVENT:FALSE
SUMMARY:Band Night-- Carolina Shreds
DESCRIPTION:Come see Carolina Shreds March 25th and enjoy the night with live music and delicious food!
X-ALT-DESC;FMTTYPE=text/html:<span style="caret-color: rgb(5\, 5\, 5)\; color: rgb(5\, 5\, 5)\; font-family: system-ui\, -apple-system\, BlinkMacSystemFont\, &quot\;.SFNSText-Regular&quot\;\, sans-serif\; font-size: 15px\;">Come see Carolina Shreds March 25th and enjoy the night with live music and delicious food!</span>
LOCATION:Tanglewood Pizza Company
UID:e.2378.22816
SEQUENCE:3
DTSTAMP:20260424T091928Z
URL:https://business.daviechamber.com/events/details/band-night-carolina-shreds-22816
END:VEVENT

END:VCALENDAR
