BEGIN:VCALENDAR
VERSION:2.0
PRODID:-//ChamberMaster//Event Calendar 2.0//EN
METHOD:PUBLISH
X-PUBLISHED-TTL:P3D
REFRESH-INTERVAL:P3D
CALSCALE:GREGORIAN
BEGIN:VEVENT
DTSTART:20230311T230000Z
DTEND:20230312T020000Z
X-MICROSOFT-CDO-ALLDAYEVENT:FALSE
SUMMARY:Band Night-- SoundKraft
DESCRIPTION:Come see Soundkraft this Saturday and enjoy the night with music and beer!!
X-ALT-DESC;FMTTYPE=text/html:<span style="font-size:16px\;"><span style="font-family:tahoma\;">Come see Soundkraft this Saturday and enjoy the night with music and beer!!</span></span>
LOCATION:Tanglewood Pizza Company
UID:e.2378.22780
SEQUENCE:3
DTSTAMP:20260424T102819Z
URL:https://business.daviechamber.com/events/details/band-night-soundkraft-22780
END:VEVENT

END:VCALENDAR
