BEGIN:VCALENDAR
VERSION:2.0
PRODID:-//ChamberMaster//Event Calendar 2.0//EN
METHOD:PUBLISH
X-PUBLISHED-TTL:P3D
REFRESH-INTERVAL:P3D
CALSCALE:GREGORIAN
BEGIN:VEVENT
DTSTART:20230302T230000Z
DTEND:20230303T020000Z
X-MICROSOFT-CDO-ALLDAYEVENT:FALSE
SUMMARY:Band Night-- Sourwood Honey
DESCRIPTION:Come out and see Sourwood Honey this Thursday and enjoy the night!
X-ALT-DESC;FMTTYPE=text/html:<span style="color: rgb(5\, 5\, 5)\; font-family: &quot\;Segoe UI Historic&quot\;\, &quot\;Segoe UI&quot\;\, Helvetica\, Arial\, sans-serif\; font-size: 15px\;">Come out and see Sourwood Honey this Thursday and enjoy the night!</span>
LOCATION:Tanglewood Pizza Company
UID:e.2378.22762
SEQUENCE:3
DTSTAMP:20260424T103109Z
URL:https://business.daviechamber.com/events/details/band-night-sourwood-honey-22762
END:VEVENT

END:VCALENDAR
