BEGIN:VCALENDAR
VERSION:2.0
PRODID:-//ChamberMaster//Event Calendar 2.0//EN
METHOD:PUBLISH
X-PUBLISHED-TTL:P3D
REFRESH-INTERVAL:P3D
CALSCALE:GREGORIAN
BEGIN:VEVENT
DTSTART:20171104T140000Z
DTEND:20171104T140000Z
X-MICROSOFT-CDO-ALLDAYEVENT:FALSE
SUMMARY:Barbecue & Yard Sale
DESCRIPTION:FUNDRAISER!!  Large yard sale and also available for purchase will be barbeque sandwiches\, chips\, drinks and desserts!!  Event starts at 10:00 am with no exact ending time but you'll want to get there early!!
X-ALT-DESC;FMTTYPE=text/html:FUNDRAISER!!&nbsp\; Large yard sale and also available for purchase will be barbeque sandwiches\, chips\, drinks and desserts!!&nbsp\; Event starts at 10:00 am with no exact ending time but you&#39\;ll want to get there early!!
LOCATION:First Baptist Church 204 Marginal St. Cooleemee\, NC
UID:e.2378.12029
SEQUENCE:3
DTSTAMP:20260421T235812Z
URL:https://business.daviechamber.com/events/details/barbecue-yard-sale-12029
END:VEVENT

END:VCALENDAR
