BEGIN:VCALENDAR
VERSION:2.0
PRODID:-//ChamberMaster//Event Calendar 2.0//EN
METHOD:PUBLISH
X-PUBLISHED-TTL:P3D
REFRESH-INTERVAL:P3D
CALSCALE:GREGORIAN
BEGIN:VEVENT
DTSTART:20170624T140000Z
DTEND:20170624T180000Z
X-MICROSOFT-CDO-ALLDAYEVENT:FALSE
SUMMARY:BBBS Car Wash
DESCRIPTION:CAR WASH with 100% of proceeds going to Big Brothers Big Sisters Services\, Inc. of Davie County!!
X-ALT-DESC;FMTTYPE=text/html:CAR WASH with 100% of proceeds going to Big Brothers Big Sisters Services\, Inc. of Davie County!!
LOCATION:Sherwin-Williams 1743 US Hwy 601 N. Mocksville\, NC 27028
UID:e.2378.11957
SEQUENCE:3
DTSTAMP:20260422T055504Z
URL:https://business.daviechamber.com/events/details/bbbs-car-wash-11957
END:VEVENT

END:VCALENDAR
