BEGIN:VCALENDAR
VERSION:2.0
PRODID:-//ChamberMaster//Event Calendar 2.0//EN
METHOD:PUBLISH
X-PUBLISHED-TTL:P3D
REFRESH-INTERVAL:P3D
CALSCALE:GREGORIAN
BEGIN:VEVENT
DTSTART:20230812T190000Z
DTEND:20230813T010000Z
X-MICROSOFT-CDO-ALLDAYEVENT:FALSE
SUMMARY:Benefit Concert & Silent Auction Supporting Thrive Community
DESCRIPTION:Concert & Silent Auction benefiting Thrive Community\n\nSaturday\, August 12\n\nTanglewood Pizza Company\n\n(5539 US-158\, Advance\, NC)\n\nFree Admission\n\nCornhole Tournament\n\n3:00 pm   6:00 pm\n\nLive Music featuring Hawthorne Curve\, Door Prizes\, & Silent Auction\n\n6:00 pm   9:00 pm\n\n10% of Sales Donated\n\nALL DAY\n\nBecome part of our remarkable community. Join Thrive Community for our upcoming benefit concert and silent auction!\n\n  Cornhole Tournament\n\n  Live Music by Hawthorne Curve\n\n- Door Prizes every 1/2 hour\n\n  Raffle & Online Silent Auction with over $12\,000 in donated items! (All Day)\n\nFor more information or to donate an item for the silent auction\, please contact info@thrivecommunity.org or 336-485-5655.
X-ALT-DESC;FMTTYPE=text/html:<div class="xdj266r x11i5rnm xat24cr x1mh8g0r x1vvkbs" style="margin: 0px\; overflow-wrap: break-word\; font-family: &quot\;Segoe UI Historic&quot\;\, &quot\;Segoe UI&quot\;\, Helvetica\, Arial\, sans-serif\; color: rgb(5\, 5\, 5)\; font-size: 15px\;"><span style="font-size:18px\;"><span style="font-family:tahoma\;"><span style="color:#333333\;">Concert &amp\; Silent Auction benefiting Thrive Community<br />\nSaturday\, August 12<br />\nTanglewood Pizza Company<br />\n(5539 US-158\, Advance\, NC)<br />\nFree Admission</span></span></span></div>\n\n<div class="x11i5rnm xat24cr x1mh8g0r x1vvkbs xtlvy1s" style="margin: 0.5em 0px 0px\; overflow-wrap: break-word\; font-family: &quot\;Segoe UI Historic&quot\;\, &quot\;Segoe UI&quot\;\, Helvetica\, Arial\, sans-serif\; color: rgb(5\, 5\, 5)\; font-size: 15px\;"><span style="font-size:18px\;"><span style="font-family:tahoma\;"><span style="color:#333333\;">Cornhole Tournament<br />\n3:00 pm &ndash\; 6:00 pm</span></span></span></div>\n\n<div class="x11i5rnm xat24cr x1mh8g0r x1vvkbs xtlvy1s" style="margin: 0.5em 0px 0px\; overflow-wrap: break-word\; font-family: &quot\;Segoe UI Historic&quot\;\, &quot\;Segoe UI&quot\;\, Helvetica\, Arial\, sans-serif\; color: rgb(5\, 5\, 5)\; font-size: 15px\;"><span style="font-size:18px\;"><span style="font-family:tahoma\;"><span style="color:#333333\;">Live Music featuring Hawthorne Curve\, Door Prizes\, &amp\; Silent Auction<br />\n6:00 pm &ndash\; 9:00 pm</span></span></span></div>\n\n<div class="x11i5rnm xat24cr x1mh8g0r x1vvkbs xtlvy1s" style="margin: 0.5em 0px 0px\; overflow-wrap: break-word\; font-family: &quot\;Segoe UI Historic&quot\;\, &quot\;Segoe UI&quot\;\, Helvetica\, Arial\, sans-serif\; color: rgb(5\, 5\, 5)\; font-size: 15px\;"><span style="font-size:18px\;"><span style="font-family:tahoma\;"><span style="color:#333333\;">10% of Sales Donated<br />\nALL DAY</span></span></span></div>\n\n<div class="x11i5rnm xat24cr x1mh8g0r x1vvkbs xtlvy1s" style="margin: 0.5em 0px 0px\; overflow-wrap: break-word\; font-family: &quot\;Segoe UI Historic&quot\;\, &quot\;Segoe UI&quot\;\, Helvetica\, Arial\, sans-serif\; color: rgb(5\, 5\, 5)\; font-size: 15px\;"><span style="font-size:18px\;"><span style="font-family:tahoma\;"><span style="color:#333333\;">Become part of our remarkable community. Join Thrive Community for our upcoming benefit concert and silent auction!</span></span></span></div>\n\n<div class="x11i5rnm xat24cr x1mh8g0r x1vvkbs xtlvy1s" style="margin: 0.5em 0px 0px\; overflow-wrap: break-word\; font-family: &quot\;Segoe UI Historic&quot\;\, &quot\;Segoe UI&quot\;\, Helvetica\, Arial\, sans-serif\; color: rgb(5\, 5\, 5)\; font-size: 15px\;"><span style="font-size:18px\;"><span style="font-family:tahoma\;"><span style="color:#333333\;">&ndash\; Cornhole Tournament<br />\n&ndash\; Live Music by Hawthorne Curve<br />\n- Door Prizes every 1/2 hour<br />\n&ndash\; Raffle &amp\; Online Silent Auction with over $12\,000 in donated items! (All Day)</span></span></span></div>\n\n<div class="x11i5rnm xat24cr x1mh8g0r x1vvkbs xtlvy1s" style="margin: 0.5em 0px 0px\; overflow-wrap: break-word\; font-family: &quot\;Segoe UI Historic&quot\;\, &quot\;Segoe UI&quot\;\, Helvetica\, Arial\, sans-serif\; color: rgb(5\, 5\, 5)\; font-size: 15px\;"><span style="font-size:18px\;"><span style="font-family:tahoma\;"><span style="color:#333333\;">For more information or to donate an item for the silent auction\, please contact info@thrivecommunity.org or 336-485-5655.</span></span></span></div>\n
LOCATION:Tanglewood Pizza Company
UID:e.2378.23143
SEQUENCE:3
DTSTAMP:20260425T201445Z
URL:https://business.daviechamber.com/events/details/benefit-concert-silent-auction-supporting-thrive-community-23143
END:VEVENT

END:VCALENDAR
