BEGIN:VCALENDAR
VERSION:2.0
PRODID:-//ChamberMaster//Event Calendar 2.0//EN
METHOD:PUBLISH
X-PUBLISHED-TTL:P3D
REFRESH-INTERVAL:P3D
CALSCALE:GREGORIAN
BEGIN:VEVENT
DTSTART:20180601T230000Z
DTEND:20180602T030000Z
X-MICROSOFT-CDO-ALLDAYEVENT:FALSE
SUMMARY:Benefit for the Wilson Family
DESCRIPTION:Come out and enjoy a drink while supporting a good cause. A percentage of the proceeds with go towards the Wilson family.
X-ALT-DESC;FMTTYPE=text/html:Come out and enjoy a drink while supporting a good cause. A percentage of the proceeds with go towards the Wilson family.
LOCATION:4 Oaks Tavern - Mocksville 142 N Main Street Mocksville\, NC 27028
UID:e.2378.14079
SEQUENCE:3
DTSTAMP:20260421T130940Z
URL:https://business.daviechamber.com/events/details/benefit-for-the-wilson-family-14079
END:VEVENT

END:VCALENDAR
