BEGIN:VCALENDAR
VERSION:2.0
PRODID:-//ChamberMaster//Event Calendar 2.0//EN
METHOD:PUBLISH
X-PUBLISHED-TTL:P3D
REFRESH-INTERVAL:P3D
CALSCALE:GREGORIAN
BEGIN:VEVENT
DTSTART:20190523T213000Z
DTEND:20190523T223000Z
X-MICROSOFT-CDO-ALLDAYEVENT:FALSE
SUMMARY:Bermuda Run Community Meeting - Davie Co. Comprehensive Plan
DESCRIPTION:Voice your opinion on recommentdations for the Davie County Comprehensive Plan update. You will help set the vision for future development and conservation in the county. Your feedback will help inform future policies\, projects\, and actions in the county.\n\n\n\nTopics will include\, but are not limited to: land use and zoning\, housing\, economic development\, agriculture\, recreation\, infrastructure\, and public services.\n\n\n\nFor questions or more information\, visit www.ptrc.org/davie\, or contact Jesse Day of the Piedmont Triad Regional Council at 336.904.0300 or by email at jday@ptrc.org.
X-ALT-DESC;FMTTYPE=text/html:Voice your opinion on recommentdations for the Davie County Comprehensive Plan update. You will help set the vision for future development and conservation in the county. Your feedback will help inform future policies\, projects\, and actions in the county.<br />\n<br />\nTopics will include\, but are not limited to: land use and zoning\, housing\, economic development\, agriculture\, recreation\, infrastructure\, and public services.<br />\n<br />\nFor questions or more information\, visit www.ptrc.org/davie\, or contact Jesse Day of the Piedmont Triad Regional Council at 336.904.0300 or by email at jday@ptrc.org.
LOCATION:Bermuda Run Town Hall 120 Kinderton Blvd\, #100 Bermuda Run
UID:e.2378.15732
SEQUENCE:3
DTSTAMP:20260419T141434Z
URL:https://business.daviechamber.com/events/details/bermuda-run-community-meeting-davie-co-comprehensive-plan-15732
END:VEVENT

END:VCALENDAR
