BEGIN:VCALENDAR
VERSION:2.0
PRODID:-//ChamberMaster//Event Calendar 2.0//EN
METHOD:PUBLISH
X-PUBLISHED-TTL:P3D
REFRESH-INTERVAL:P3D
CALSCALE:GREGORIAN
BEGIN:VEVENT
DTSTART:20151016T140000Z
DTEND:20151017T000000Z
X-MICROSOFT-CDO-ALLDAYEVENT:FALSE
SUMMARY:Bermuda Run Country Club and The Piedmont Club Charity Classic (Formaly The Hospice Classic)
DESCRIPTION:Bermuda Run Country Club and The Piedmont Club invites its members and their guests to the ClubCorp Charity Classic.  The day will begin with a golf tournament starting at 10 am\, followed by a Pig Pickin' lunch.  The evening will consist of a Vintage Las Vegas Night Party beginning at 6:00 pm. Entertainment will include a DJ\, live music by The Mystery Dates and various casino gaming tables.  Vintage cocktails and heavy hors d' oeuvres will be served throughout the evening\, ending with a live and silent auction.\n\nBenefiting the Kate B. Reynolds Hospice & Palliative CareCenter\, Augie's Quest (ALS) & the Employee Partner Care Foundation (E.P.C.F)
X-ALT-DESC;FMTTYPE=text/html:Bermuda Run Country Club and The Piedmont Club invites its members and their guests to the ClubCorp Charity Classic.&nbsp\; The day will begin with a golf tournament starting at 10 am\, followed by a Pig Pickin&#39\; lunch.&nbsp\; The evening will consist of a Vintage Las Vegas Night Party beginning at 6:00 pm. Entertainment will include a DJ\, live music by The Mystery Dates and various casino gaming tables.&nbsp\; Vintage cocktails and heavy hors d&#39\; oeuvres will be served throughout the evening\, ending with a live and silent auction.<br />\n<em>Benefiting the Kate B. Reynolds Hospice &amp\; Palliative CareCenter\, Augie&#39\;s Quest (ALS) &amp\; the Employee Partner Care Foundation (E.P.C.F)</em>
LOCATION:Bermuda Run Country Club 324 Bermuda Run Drive\, Bermuda Run
UID:e.2378.4081
SEQUENCE:3
DTSTAMP:20260423T111807Z
URL:https://business.daviechamber.com/events/details/bermuda-run-country-club-and-the-piedmont-club-charity-classic-formaly-the-hospice-classic-10-16-2015-4081
END:VEVENT

END:VCALENDAR
