BEGIN:VCALENDAR
VERSION:2.0
PRODID:-//ChamberMaster//Event Calendar 2.0//EN
METHOD:PUBLISH
X-PUBLISHED-TTL:P3D
REFRESH-INTERVAL:P3D
CALSCALE:GREGORIAN
BEGIN:VEVENT
DTSTART:20251003T193000Z
DTEND:20251003T223000Z
X-MICROSOFT-CDO-ALLDAYEVENT:FALSE
SUMMARY:Bermuda Run Farmer's Market
DESCRIPTION:Local Farmer's Market in Bermuda Run. Fresh and local produce.
X-ALT-DESC;FMTTYPE=text/html:<span style="font-family:tahoma\;"><span style="font-size:16px\;"><span style="color: rgb(8\, 8\, 9)\; text-align: center\;">Local Farmer&#39\;s Market in Bermuda Run. Fresh and local produce.</span></span></span>
LOCATION:
UID:e.2378.28511
SEQUENCE:3
DTSTAMP:20260425T221117Z
URL:https://business.daviechamber.com/events/details/bermuda-run-farmer-s-market-10-03-2025-28511
END:VEVENT

END:VCALENDAR
