BEGIN:VCALENDAR
VERSION:2.0
PRODID:-//ChamberMaster//Event Calendar 2.0//EN
METHOD:PUBLISH
X-PUBLISHED-TTL:P3D
REFRESH-INTERVAL:P3D
CALSCALE:GREGORIAN
BEGIN:VEVENT
DTSTART:20251018T140000Z
DTEND:20251018T200000Z
X-MICROSOFT-CDO-ALLDAYEVENT:FALSE
SUMMARY:Bermuda Run Food & Brews Fest
DESCRIPTION:Bermuda Run Food & Brews Fest!\n\nJoin us for the Bermuda Run Food and Brews Fest! Come enjoy delicious bites\, refreshing brews\, and a vibrant atmosphere with great company. Don't miss out on this fantastic day of fun and flavor! \n\n\n	Vendor Market\n	Permanent Jewelry\n	Breweries & Adult Beverages\n	Food Trucks Galore\n\n\n-Donut NV\n\n-Wrights Italian Ice\n\n-Bear Creek BBQ\n\n-Stardust Lemonade\n\n-Mexaway\n\n\n	Kid's Zone\n	Live Music & so much more to come!\n\n\nVENDOR APP:\n\nhttps://www.eventeny.com/events/vendor/?id=33446\n\n\n	For sponsorship opportunities please email Kate at sponsorships@sunnydaymarkets.com to receive a sponsorship package!\n	    For vendor opportunities please email Paige at info@sunnydaymarkets.com for all vendor inquiries!\n\n\nCome out to enjoy a day full of fun with all of your friends & family!\n\n\n	Date: October 18th\, 2025\n	Time: 10AM-4PM\n	Location: Bermuda Run Town Green - 120 Kinderton Blvd\, Bermuda Run\, NC 27006
X-ALT-DESC;FMTTYPE=text/html:<div class="xdj266r x14z9mp xat24cr x1lziwak x1vvkbs" style="overflow-wrap: break-word\; margin-inline: 0px\; margin-bottom: 0px\; margin-top: 0px\; font-family: &quot\;Segoe UI Historic&quot\;\, &quot\;Segoe UI&quot\;\, Helvetica\, Arial\, sans-serif\; color: rgb(8\, 8\, 9)\; font-size: 15px\;"><span style="font-size:16px\;"><span style="font-family:tahoma\;">Bermuda Run Food &amp\; Brews Fest!<br />\nJoin us for the Bermuda Run Food and Brews Fest! Come enjoy delicious bites\, refreshing brews\, and a vibrant atmosphere with great company. Don&rsquo\;t miss out on this fantastic day of fun and flavor!&nbsp\;</span></span></div>\n\n<ul>\n	<li class="x14z9mp xat24cr x1lziwak x1vvkbs xtlvy1s" style="overflow-wrap: break-word\; margin-top: 0.5em\; margin-inline: 0px\; margin-bottom: 0px\; font-family: &quot\;Segoe UI Historic&quot\;\, &quot\;Segoe UI&quot\;\, Helvetica\, Arial\, sans-serif\; color: rgb(8\, 8\, 9)\; font-size: 15px\;"><span style="font-size:16px\;"><span style="font-family:tahoma\;">Vendor Market</span></span></li>\n	<li class="x14z9mp xat24cr x1lziwak x1vvkbs xtlvy1s" style="overflow-wrap: break-word\; margin-top: 0.5em\; margin-inline: 0px\; margin-bottom: 0px\; font-family: &quot\;Segoe UI Historic&quot\;\, &quot\;Segoe UI&quot\;\, Helvetica\, Arial\, sans-serif\; color: rgb(8\, 8\, 9)\; font-size: 15px\;"><span style="font-size:16px\;"><span style="font-family:tahoma\;">Permanent Jewelry</span></span></li>\n	<li class="x14z9mp xat24cr x1lziwak x1vvkbs xtlvy1s" style="overflow-wrap: break-word\; margin-top: 0.5em\; margin-inline: 0px\; margin-bottom: 0px\; font-family: &quot\;Segoe UI Historic&quot\;\, &quot\;Segoe UI&quot\;\, Helvetica\, Arial\, sans-serif\; color: rgb(8\, 8\, 9)\; font-size: 15px\;"><span style="font-size:16px\;"><span style="font-family:tahoma\;">Breweries &amp\; Adult Beverages</span></span></li>\n	<li class="x14z9mp xat24cr x1lziwak x1vvkbs xtlvy1s" style="overflow-wrap: break-word\; margin-top: 0.5em\; margin-inline: 0px\; margin-bottom: 0px\; font-family: &quot\;Segoe UI Historic&quot\;\, &quot\;Segoe UI&quot\;\, Helvetica\, Arial\, sans-serif\; color: rgb(8\, 8\, 9)\; font-size: 15px\;"><span style="font-size:16px\;"><span style="font-family:tahoma\;">Food Trucks Galore</span></span></li>\n</ul>\n\n<div class="x14z9mp xat24cr x1lziwak x1vvkbs xtlvy1s" style="overflow-wrap: break-word\; margin-top: 0.5em\; margin-inline: 0px\; margin-bottom: 0px\; font-family: &quot\;Segoe UI Historic&quot\;\, &quot\;Segoe UI&quot\;\, Helvetica\, Arial\, sans-serif\; color: rgb(8\, 8\, 9)\; font-size: 15px\;"><span style="font-size:16px\;"><span style="font-family:tahoma\;">-Donut NV<br class="html-br" />\n-Wrights Italian Ice<br class="html-br" />\n-Bear Creek BBQ<br class="html-br" />\n-Stardust Lemonade<br class="html-br" />\n-Mexaway</span></span></div>\n\n<ul>\n	<li class="x14z9mp xat24cr x1lziwak x1vvkbs xtlvy1s" style="overflow-wrap: break-word\; margin-top: 0.5em\; margin-inline: 0px\; margin-bottom: 0px\; font-family: &quot\;Segoe UI Historic&quot\;\, &quot\;Segoe UI&quot\;\, Helvetica\, Arial\, sans-serif\; color: rgb(8\, 8\, 9)\; font-size: 15px\;"><span style="font-size:16px\;"><span style="font-family:tahoma\;">Kid&rsquo\;s Zone</span></span></li>\n	<li class="x14z9mp xat24cr x1lziwak x1vvkbs xtlvy1s" style="overflow-wrap: break-word\; margin-top: 0.5em\; margin-inline: 0px\; margin-bottom: 0px\; font-family: &quot\;Segoe UI Historic&quot\;\, &quot\;Segoe UI&quot\;\, Helvetica\, Arial\, sans-serif\; color: rgb(8\, 8\, 9)\; font-size: 15px\;"><span style="font-size:16px\;"><span style="font-family:tahoma\;">Live Music &amp\; so much more to come!</span></span></li>\n</ul>\n\n<div class="x14z9mp xat24cr x1lziwak x1vvkbs xtlvy1s" style="overflow-wrap: break-word\; margin-top: 0.5em\; margin-inline: 0px\; margin-bottom: 0px\; font-family: &quot\;Segoe UI Historic&quot\;\, &quot\;Segoe UI&quot\;\, Helvetica\, Arial\, sans-serif\; color: rgb(8\, 8\, 9)\; font-size: 15px\;"><span style="font-size:16px\;"><span style="font-family:tahoma\;">VENDOR APP:<br class="html-br" />\n<a attributionsrc="/privacy_sandbox/comet/register/source/?xt=AZVUA8--n_O00VlxSmEHKS_Xj1_CZUG3j39795STMoB5KbZPMakU5WgZgPg2bYR3GLHaUNCp_6c0vwFzxZvGcbGOxF1Ylt3WERbFMpDBIB13lk42lEF73niaSUXr1_BYtFhG4mqhMziUsFkJzbYD5sWO4do1kAZM1r84Jb5mnSKXCaOzsVhBOK2_1oylawfmrNK_gR68ZA_85ppO2zz6TvfD0JhVW0S0-xQUGC7Ssk4PeBWBHLJxO-tlgUszCmnyYW2pBr0B0IjW9piBNoLQjcuURqQg9rFDwEPAPkN7gpMyysBoakAMfutPRGXynVfam_iHmVdm0Al9-BTehpgs28l2NBBOcmKJ8CaXstfaRsfcAiaOgjmlCIIxGhxwmJs8xlnKReusqKaf5NFhW7UHw4HD-W6SnIdVZ4Xp4cHpc9-fHYKqVJad39NvGAr8TMpnztDNupvUhf59Iru4xNMoATUilDiBRLWtzRlOzuGNXpJ1q2G7diBsifccekIM8reUEFxN-T9HOEEjlE7XnN5fwsKKZw116l6GHSS4GSey56mZqR-IAounf7L7EqHN0d2WH5Gx7SU82XgN0bvH-yzpK4uQL2dBlD1g_hae8F9qhmhsap8GfPAIozwXXSm5YiEw0X6PntGcKncGeZHlbXdF8Pmw_2NR9SIMiLUFfw6SkeEC7b_TyK8zEAF_ZJ47-S_-CVl8-4Hl5lK4CYeJ_wRwiZkEp6rZ4YUAGnXv6YvmzfTPJnnvlOgMqTuCyZNPFPM_KkZz6LYdV2WzChJ67okwzRG6j76jhUHNjoCR-Rh48bzyctDPTDxWDKhwPunACUahmudN_ANpyI5d7R9uS2s8nk1eg1T35RxGQITBXvTNjn2BRA" class="x1i10hfl xjbqb8w x1ejq31n x18oe1m7 x1sy0etr xstzfhl x972fbf x10w94by x1qhh985 x14e42zd x9f619 x1ypdohk xt0psk2 x3ct3a4 xdj266r x14z9mp xat24cr x1lziwak xexx8yu xyri2b x18d9i69 x1c1uobl x16tdsg8 x1hl2dhg xggy1nq x1a2a7pz xkrqix3 x1sur9pj x1fey0fg x1s688f" href="https://www.eventeny.com/events/vendor/?id=33446&amp\;fbclid=IwZXh0bgNhZW0CMTAAYnJpZBEwNHdLamg1ZFBQeUVNWHFQVgEe2PZOtQg4UuC4i1c_sSDcXrNiB66ZIfLKteaxExKUJpXsUiEcwzyAc2IHr78_aem_RNUNOjpEpzBUrmDaGGWK4g" rel="nofollow noreferrer" role="link" style="color: rgb(0\, 100\, 209)\; cursor: pointer\; text-decoration-line: none\; text-align: inherit\; list-style-type: none\; box-sizing: border-box\; background-color: transparent\; outline: none\; -webkit-tap-highlight-color: transparent\; font-weight: 600\; touch-action: manipulation\; display: inline\; border-inline-width: 0px\; margin-inline: 0px\; border-inline-style: none\; padding-inline: 0px\; padding-bottom: 0px\; border-top-style: none\; border-bottom-width: 0px\; border-bottom-style: none\; border-top-width: 0px\; margin-bottom: 0px\; margin-top: 0px\; padding-top: 0px\; font-family: inherit\;" tabindex="0" target="_blank">https://www.eventeny.com/events/vendor/?id=33446</a></span></span></div>\n\n<ul>\n	<li class="x14z9mp xat24cr x1lziwak x1vvkbs xtlvy1s" style="overflow-wrap: break-word\; margin-top: 0.5em\; margin-inline: 0px\; margin-bottom: 0px\; font-family: &quot\;Segoe UI Historic&quot\;\, &quot\;Segoe UI&quot\;\, Helvetica\, Arial\, sans-serif\; color: rgb(8\, 8\, 9)\; font-size: 15px\;"><span style="font-size:16px\;"><span style="font-family:tahoma\;">For sponsorship opportunities please email Kate at sponsorships@sunnydaymarkets.com to receive a sponsorship package!</span></span></li>\n	<li class="x14z9mp xat24cr x1lziwak x1vvkbs xtlvy1s" style="overflow-wrap: break-word\; margin-top: 0.5em\; margin-inline: 0px\; margin-bottom: 0px\; font-family: &quot\;Segoe UI Historic&quot\;\, &quot\;Segoe UI&quot\;\, Helvetica\, Arial\, sans-serif\; color: rgb(8\, 8\, 9)\; font-size: 15px\;"><span style="font-size:16px\;"><span style="font-family:tahoma\;">&nbsp\; &nbsp\; For vendor opportunities please email Paige at info@sunnydaymarkets.com for all vendor inquiries!</span></span></li>\n</ul>\n\n<div class="x14z9mp xat24cr x1lziwak x1vvkbs xtlvy1s" style="overflow-wrap: break-word\; margin-top: 0.5em\; margin-inline: 0px\; margin-bottom: 0px\; font-family: &quot\;Segoe UI Historic&quot\;\, &quot\;Segoe UI&quot\;\, Helvetica\, Arial\, sans-serif\; color: rgb(8\, 8\, 9)\; font-size: 15px\;"><span style="font-size:16px\;"><span style="font-family:tahoma\;">Come out to enjoy a day full of fun with all of your friends &amp\; family!</span></span></div>\n\n<ul>\n	<li class="x14z9mp xat24cr x1lziwak x1vvkbs xtlvy1s" style="overflow-wrap: break-word\; margin-top: 0.5em\; margin-inline: 0px\; margin-bottom: 0px\; font-family: &quot\;Segoe UI Historic&quot\;\, &quot\;Segoe UI&quot\;\, Helvetica\, Arial\, sans-serif\; color: rgb(8\, 8\, 9)\; font-size: 15px\;"><span style="font-size:16px\;"><span style="font-family:tahoma\;">Date: October 18th\, 2025</span></span></li>\n	<li class="x14z9mp xat24cr x1lziwak x1vvkbs xtlvy1s" style="overflow-wrap: break-word\; margin-top: 0.5em\; margin-inline: 0px\; margin-bottom: 0px\; font-family: &quot\;Segoe UI Historic&quot\;\, &quot\;Segoe UI&quot\;\, Helvetica\, Arial\, sans-serif\; color: rgb(8\, 8\, 9)\; font-size: 15px\;"><span style="font-size:16px\;"><span style="font-family:tahoma\;">Time: 10AM-4PM</span></span></li>\n	<li class="x14z9mp xat24cr x1lziwak x1vvkbs xtlvy1s" style="overflow-wrap: break-word\; margin-top: 0.5em\; margin-inline: 0px\; margin-bottom: 0px\; font-family: &quot\;Segoe UI Historic&quot\;\, &quot\;Segoe UI&quot\;\, Helvetica\, Arial\, sans-serif\; color: rgb(8\, 8\, 9)\; font-size: 15px\;"><span style="font-size:16px\;"><span style="font-family:tahoma\;">Location: Bermuda Run Town Green - 120 Kinderton Blvd\, Bermuda Run\, NC 27006</span></span></li>\n</ul>\n
LOCATION:Bermuda Run
UID:e.2378.28937
SEQUENCE:3
DTSTAMP:20260425T221020Z
URL:https://business.daviechamber.com/events/details/bermuda-run-food-brews-fest-28937
END:VEVENT

END:VCALENDAR
