BEGIN:VCALENDAR
VERSION:2.0
PRODID:-//ChamberMaster//Event Calendar 2.0//EN
METHOD:PUBLISH
X-PUBLISHED-TTL:P3D
REFRESH-INTERVAL:P3D
CALSCALE:GREGORIAN
BEGIN:VEVENT
DTSTART:20251024T200000Z
DTEND:20251024T220000Z
X-MICROSOFT-CDO-ALLDAYEVENT:FALSE
SUMMARY:Bermuda Village 3rd Annual Trunk or Treat
DESCRIPTION:Get ready for our 3rd Annual Trunk or Treat! \n\nJoin us at Bermuda Village on Friday\, October 24th from 4:30   6:00 p.m. for an evening full of candy\, costumes\, and community fun! \n\nThis free event is open to the public\, so bring your friends\, family\, and little ghouls for a spooky good time! We'll have plenty of decorated trunks\, sweet treats\, and even a bounce house for the kids! \n\n\n	 142 Bermuda Village Drive\, Advance\, NC\n	 For more info\, contact Brandy at 336-998-6593\n	 Located in the parking lot by the Clubhouse flagpoles
X-ALT-DESC;FMTTYPE=text/html:<div class="xdj266r x14z9mp xat24cr x1lziwak x1vvkbs" style="overflow-wrap: break-word\; margin-inline: 0px\; margin-bottom: 0px\; margin-top: 0px\; font-family: &quot\;Segoe UI Historic&quot\;\, &quot\;Segoe UI&quot\;\, Helvetica\, Arial\, sans-serif\; color: rgb(8\, 8\, 9)\; font-size: 15px\;"><span style="font-size:16px\;"><span style="font-family:tahoma\;">&nbsp\;Get ready for our 3rd Annual Trunk or Treat!&nbsp\;</span></span></div>\n\n<div class="x14z9mp xat24cr x1lziwak x1vvkbs xtlvy1s" style="overflow-wrap: break-word\; margin-top: 0.5em\; margin-inline: 0px\; margin-bottom: 0px\; font-family: &quot\;Segoe UI Historic&quot\;\, &quot\;Segoe UI&quot\;\, Helvetica\, Arial\, sans-serif\; color: rgb(8\, 8\, 9)\; font-size: 15px\;"><span style="font-size:16px\;"><span style="font-family:tahoma\;">Join us at Bermuda Village on Friday\, October 24th from 4:30 &ndash\; 6:00 p.m. for an evening full of candy\, costumes\, and community fun!&nbsp\;</span></span></div>\n\n<div class="x14z9mp xat24cr x1lziwak x1vvkbs xtlvy1s" style="overflow-wrap: break-word\; margin-top: 0.5em\; margin-inline: 0px\; margin-bottom: 0px\; font-family: &quot\;Segoe UI Historic&quot\;\, &quot\;Segoe UI&quot\;\, Helvetica\, Arial\, sans-serif\; color: rgb(8\, 8\, 9)\; font-size: 15px\;"><span style="font-size:16px\;"><span style="font-family:tahoma\;">This free event is open to the public\, so bring your friends\, family\, and little ghouls for a spooky good time! We&rsquo\;ll have plenty of decorated trunks\, sweet treats\, and even a bounce house for the kids!&nbsp\;</span></span></div>\n\n<ul>\n	<li class="x14z9mp xat24cr x1lziwak x1vvkbs xtlvy1s" style="overflow-wrap: break-word\; margin-top: 0.5em\; margin-inline: 0px\; margin-bottom: 0px\; font-family: &quot\;Segoe UI Historic&quot\;\, &quot\;Segoe UI&quot\;\, Helvetica\, Arial\, sans-serif\; color: rgb(8\, 8\, 9)\; font-size: 15px\;"><span style="font-size:16px\;"><span style="font-family:tahoma\;">&nbsp\;142 Bermuda Village Drive\, Advance\, NC</span></span></li>\n	<li class="x14z9mp xat24cr x1lziwak x1vvkbs xtlvy1s" style="overflow-wrap: break-word\; margin-top: 0.5em\; margin-inline: 0px\; margin-bottom: 0px\; font-family: &quot\;Segoe UI Historic&quot\;\, &quot\;Segoe UI&quot\;\, Helvetica\, Arial\, sans-serif\; color: rgb(8\, 8\, 9)\; font-size: 15px\;"><span style="font-size:16px\;"><span style="font-family:tahoma\;">&nbsp\;For more info\, contact Brandy at 336-998-6593</span></span></li>\n	<li class="x14z9mp xat24cr x1lziwak x1vvkbs xtlvy1s" style="overflow-wrap: break-word\; margin-top: 0.5em\; margin-inline: 0px\; margin-bottom: 0px\; font-family: &quot\;Segoe UI Historic&quot\;\, &quot\;Segoe UI&quot\;\, Helvetica\, Arial\, sans-serif\; color: rgb(8\, 8\, 9)\; font-size: 15px\;"><span style="font-size:16px\;"><span style="font-family:tahoma\;">&nbsp\;Located in the parking lot by the Clubhouse&nbsp\;flagpoles</span></span></li>\n</ul>\n
LOCATION:Bermuda Village
UID:e.2378.28940
SEQUENCE:3
DTSTAMP:20260425T221138Z
URL:https://business.daviechamber.com/events/details/bermuda-village-3rd-annual-trunk-or-treat-28940
END:VEVENT

END:VCALENDAR
