BEGIN:VCALENDAR
VERSION:2.0
PRODID:-//ChamberMaster//Event Calendar 2.0//EN
METHOD:PUBLISH
X-PUBLISHED-TTL:P3D
REFRESH-INTERVAL:P3D
CALSCALE:GREGORIAN
BEGIN:VEVENT
DTSTART;VALUE=DATE:20170303
DTEND;VALUE=DATE:20170305
TRANSP:TRANSPARENT
X-MICROSOFT-CDO-ALLDAYEVENT:TRUE
SUMMARY:Big Brothers Big Sisters - Bowl for Kids' Sake
DESCRIPTION:In 2017\, Big Brothers Big Sisters is celebrating 40 years of serving children in Forsyth County and 17 years in Davie County! To celebrate\, they are taking back to the decade where it all began with a 1970's disco-themed Bowl for Kids' Sake!\n\n\n\nCostume Contest | Glow Bowling | Prize Patrols\n\n\n\nDJ spinning billboard chart topping hits from the 1970's along with current favorites.\n\n\n\nGet your disco shoes on & mark your calendars!
X-ALT-DESC;FMTTYPE=text/html:In 2017\, Big Brothers Big Sisters is celebrating 40 years of serving children in Forsyth County and 17 years in Davie County! To celebrate\, they are taking back to the decade where it all began with a 1970&#39\;s disco-themed Bowl for Kids&#39\; Sake!<br />\n<br />\nCostume Contest | Glow Bowling | Prize Patrols<br />\n<br />\nDJ spinning billboard chart topping hits from the 1970&#39\;s along with current favorites.<br />\n<br />\nGet your disco shoes on &amp\; mark your calendars!
LOCATION:AMF Major League Lanes 811 Jonestown Rd Winston-Salem\, NC 27103
UID:e.2378.10164
SEQUENCE:3
DTSTAMP:20260422T095123Z
URL:https://business.daviechamber.com/events/details/big-brothers-big-sisters-bowl-for-kids-sake-10164
END:VEVENT

END:VCALENDAR
