BEGIN:VCALENDAR
VERSION:2.0
PRODID:-//ChamberMaster//Event Calendar 2.0//EN
METHOD:PUBLISH
X-PUBLISHED-TTL:P3D
REFRESH-INTERVAL:P3D
CALSCALE:GREGORIAN
BEGIN:VEVENT
DTSTART:20170506T130000Z
DTEND:20170506T130000Z
X-MICROSOFT-CDO-ALLDAYEVENT:FALSE
SUMMARY:Bike & Classic Car Ride Fundraiser
DESCRIPTION:Mercy and Truth Ministries is hosting a Bike & Classic Car Ride Fundraiser\, all proceeds will go to MTM's Christmas Project for Toys & Food for Tri-County Families of Surry\, Yadkin & Wilkes.\n\n\n\nMeet at 9:00 am - Coffee\, Drinks & Biscuits\n\nPrayer at 9:45 am\n\nKick Stands Up at 10:00 am
X-ALT-DESC;FMTTYPE=text/html:Mercy and Truth Ministries is hosting a Bike &amp\; Classic Car Ride Fundraiser\, all proceeds will go to MTM&#39\;s Christmas Project for Toys &amp\; Food for Tri-County Families of Surry\, Yadkin &amp\; Wilkes.<br />\n<br />\nMeet at 9:00 am - Coffee\, Drinks &amp\; Biscuits<br />\nPrayer at 9:45 am<br />\nKick Stands Up at 10:00 am<br />\n&nbsp\;
LOCATION:Start/End Point: Yadkin County Senior Center 207 East Hemlock St Yadkinville\, NC 27055 Halfway Point: Shiloh General Store Amish Goods 5520 St Paul Church Rd Hamptonville\, NC 27020
UID:e.2378.11593
SEQUENCE:3
DTSTAMP:20260422T085229Z
URL:https://business.daviechamber.com/events/details/bike-classic-car-ride-fundraiser-11593
END:VEVENT

END:VCALENDAR
