BEGIN:VCALENDAR
VERSION:2.0
PRODID:-//ChamberMaster//Event Calendar 2.0//EN
METHOD:PUBLISH
X-PUBLISHED-TTL:P3D
REFRESH-INTERVAL:P3D
CALSCALE:GREGORIAN
BEGIN:VEVENT
DTSTART:20230819T123000Z
DTEND:20230819T190000Z
X-MICROSOFT-CDO-ALLDAYEVENT:FALSE
SUMMARY:Bike for MS
DESCRIPTION:Join us in supporting the Dash City Cycling Club as they bike through the Yadkin Valley for MS in our 4th annual BikeMS bike ride event!\n\nBike ride will begin at 8:30am. After your ride\, enjoy live music by Tyler Millard and food for purchase from Bearded BBQ!\n\nInterested in riding? Click HERE to register. For questions about riding and routes\, please contact Matt Winnicki via the contact page on the registration site or by phone at (336) 406-0024.\n\nFor non-riders who want to support\, music and food truck service begins at 11:00am and ends at 3:00pm.\n\nAdditional Vineyard Info:\n\nFeel free to bring a lawn chair!\n\nNO outside alcohol\, coolers\, balls\, or scooters\, are permitted.\n\nEvent is Rain or Shine.
X-ALT-DESC;FMTTYPE=text/html:<div class="xdj266r x11i5rnm xat24cr x1mh8g0r x1vvkbs" style="margin: 0px\; overflow-wrap: break-word\; font-family: &quot\;Segoe UI Historic&quot\;\, &quot\;Segoe UI&quot\;\, Helvetica\, Arial\, sans-serif\; color: rgb(5\, 5\, 5)\; font-size: 15px\;"><span style="font-size:18px\;"><span style="font-family:tahoma\;"><span style="color:#333333\;">Join us in supporting the Dash City Cycling Club as they bike through the Yadkin Valley for MS in our 4th annual BikeMS bike ride event!</span></span></span></div>\n\n<div class="x11i5rnm xat24cr x1mh8g0r x1vvkbs xtlvy1s" style="margin: 0.5em 0px 0px\; overflow-wrap: break-word\; font-family: &quot\;Segoe UI Historic&quot\;\, &quot\;Segoe UI&quot\;\, Helvetica\, Arial\, sans-serif\; color: rgb(5\, 5\, 5)\; font-size: 15px\;"><span style="font-size:18px\;"><span style="font-family:tahoma\;"><span style="color:#333333\;">Bike ride will begin at 8:30am. After your ride\, enjoy live music by Tyler Millard and food for purchase from Bearded BBQ!</span></span></span></div>\n\n<div class="x11i5rnm xat24cr x1mh8g0r x1vvkbs xtlvy1s" style="margin: 0.5em 0px 0px\; overflow-wrap: break-word\; font-family: &quot\;Segoe UI Historic&quot\;\, &quot\;Segoe UI&quot\;\, Helvetica\, Arial\, sans-serif\; color: rgb(5\, 5\, 5)\; font-size: 15px\;"><span style="font-size:18px\;"><span style="font-family:tahoma\;"><span style="color:#333333\;">Interested in riding? Click HERE to register. For questions about riding and routes\, please contact Matt Winnicki via the contact page on the registration site or by phone at (336) 406-0024.</span></span></span></div>\n\n<div class="x11i5rnm xat24cr x1mh8g0r x1vvkbs xtlvy1s" style="margin: 0.5em 0px 0px\; overflow-wrap: break-word\; font-family: &quot\;Segoe UI Historic&quot\;\, &quot\;Segoe UI&quot\;\, Helvetica\, Arial\, sans-serif\; color: rgb(5\, 5\, 5)\; font-size: 15px\;"><span style="font-size:18px\;"><span style="font-family:tahoma\;"><span style="color:#333333\;">For non-riders who want to support\, music and food truck service begins at 11:00am and ends at 3:00pm.</span></span></span></div>\n\n<div class="x11i5rnm xat24cr x1mh8g0r x1vvkbs xtlvy1s" style="margin: 0.5em 0px 0px\; overflow-wrap: break-word\; font-family: &quot\;Segoe UI Historic&quot\;\, &quot\;Segoe UI&quot\;\, Helvetica\, Arial\, sans-serif\; color: rgb(5\, 5\, 5)\; font-size: 15px\;"><span style="font-size:18px\;"><span style="font-family:tahoma\;"><span style="color:#333333\;">Additional Vineyard Info:<br />\nFeel free to bring a lawn chair!<br />\nNO outside alcohol\, coolers\, balls\, or scooters\, are permitted.<br />\nEvent is Rain or Shine.</span></span></span></div>\n
LOCATION:RayLen Vineyards & Winery
UID:e.2378.23178
SEQUENCE:3
DTSTAMP:20260425T201440Z
URL:https://business.daviechamber.com/events/details/bike-for-ms-23178
END:VEVENT

END:VCALENDAR
