BEGIN:VCALENDAR
VERSION:2.0
PRODID:-//ChamberMaster//Event Calendar 2.0//EN
METHOD:PUBLISH
X-PUBLISHED-TTL:P3D
REFRESH-INTERVAL:P3D
CALSCALE:GREGORIAN
BEGIN:VEVENT
DTSTART:20230819T210000Z
DTEND:20230820T020000Z
X-MICROSOFT-CDO-ALLDAYEVENT:FALSE
SUMMARY:Bike Night at The Station
DESCRIPTION:Roll on up to The Station and enjoy a few pints and fun times with old friends and new this Saturday night!
X-ALT-DESC;FMTTYPE=text/html:<span style="color: rgb(102\, 102\, 102)\; font-family: tahoma\; font-size: 18px\;">Roll on up to The Station and enjoy a few pints and fun times with old friends and new this Saturday night!</span>
LOCATION:The Station
UID:e.2378.23173
SEQUENCE:3
DTSTAMP:20260425T215109Z
URL:https://business.daviechamber.com/events/details/bike-night-at-the-station-23173
END:VEVENT

END:VCALENDAR
