BEGIN:VCALENDAR
VERSION:2.0
PRODID:-//ChamberMaster//Event Calendar 2.0//EN
METHOD:PUBLISH
X-PUBLISHED-TTL:P3D
REFRESH-INTERVAL:P3D
CALSCALE:GREGORIAN
BEGIN:VEVENT
DTSTART:20230520T210000Z
DTEND:20230521T003000Z
X-MICROSOFT-CDO-ALLDAYEVENT:FALSE
SUMMARY:Bike Night & Hot Dog Central Food Truck
DESCRIPTION:Bike Night at The Station & Food Truck!
X-ALT-DESC;FMTTYPE=text/html:<font color="#050505" face="Segoe UI Historic\, Segoe UI\, Helvetica\, Arial\, sans-serif"><span style="font-size: 15px\;">Bike Night at The Station &amp\; Food Truck!</span></font>
LOCATION:The Station
UID:e.2378.22948
SEQUENCE:3
DTSTAMP:20260424T132220Z
URL:https://business.daviechamber.com/events/details/bike-night-hot-dog-central-food-truck-22948
END:VEVENT

END:VCALENDAR
