BEGIN:VCALENDAR
VERSION:2.0
PRODID:-//ChamberMaster//Event Calendar 2.0//EN
METHOD:PUBLISH
X-PUBLISHED-TTL:P3D
REFRESH-INTERVAL:P3D
CALSCALE:GREGORIAN
BEGIN:VEVENT
DTSTART:20161028T150000Z
DTEND:20161028T160000Z
X-MICROSOFT-CDO-ALLDAYEVENT:FALSE
SUMMARY:BlockFest & Fire Safety
DESCRIPTION:Children will be engaging in block-play stations maximizing their enjoyment and learning of math and science (please bring a pair of socks for your child). Space is limited\, call 336.751.2113 to reserve a spot. Rain Date is October 28th\, 2016. In conjunction with BlockFest\, Smart Start will be hosting the Mocksville Fire Department as they share the importance of fire safety.
X-ALT-DESC;FMTTYPE=text/html:Children will be engaging in block-play stations maximizing their enjoyment and learning of math and science (please bring a pair of socks for your child). Space is limited\, call 336.751.2113 to reserve a spot. Rain Date is October 28th\, 2016. In conjunction with BlockFest\, Smart Start will be hosting the Mocksville Fire Department as they share the importance of fire safety.
LOCATION:Smart Start of Davie County 1278 Yadkinville Road Mocksville\, NC 27028
UID:e.2378.7466
SEQUENCE:3
DTSTAMP:20260421T143321Z
URL:https://business.daviechamber.com/events/details/blockfest-fire-safety-10-07-2016-7466
END:VEVENT

END:VCALENDAR
