BEGIN:VCALENDAR
VERSION:2.0
PRODID:-//ChamberMaster//Event Calendar 2.0//EN
METHOD:PUBLISH
X-PUBLISHED-TTL:P3D
REFRESH-INTERVAL:P3D
CALSCALE:GREGORIAN
BEGIN:VEVENT
DTSTART:20230803T140000Z
DTEND:20230803T200000Z
X-MICROSOFT-CDO-ALLDAYEVENT:FALSE
SUMMARY:Blood Drive - Davie County Sheriff's Office
DESCRIPTION:All donors receive:\n\n- $20 eGift Card\n\n- OneBlood Swag Bag\n\n- Wellness Checkup including blood pressure\, pulse\, temperature\, iron count\, and cholesterol screening\n\n\n\nAppointments are encouraged\, please visit oneblood.org/donate-now and use sponsor code 68135
X-ALT-DESC;FMTTYPE=text/html:<span style="font-size:18px\;"><span style="font-family:tahoma\;"><span style="color:#333333\;">All donors receive:<br />\n- $20 eGift Card<br />\n- OneBlood Swag Bag<br />\n- Wellness Checkup including blood pressure\, pulse\, temperature\, iron count\, and cholesterol screening<br />\n<br />\nAppointments are encouraged\, please visit </span><u><strong><a href="http://oneblood.org/donate-now"><span style="color:#333333\;">oneblood.org/donate-now</span></a></strong></u><span style="color:#333333\;"> and use sponsor code 68135</span></span></span>
LOCATION:Davie County Sheriff's Office
UID:e.2378.23126
SEQUENCE:3
DTSTAMP:20260425T201644Z
URL:https://business.daviechamber.com/events/details/blood-drive-davie-county-sheriff-s-office-23126
END:VEVENT

END:VCALENDAR
