BEGIN:VCALENDAR
VERSION:2.0
PRODID:-//ChamberMaster//Event Calendar 2.0//EN
METHOD:PUBLISH
X-PUBLISHED-TTL:P3D
REFRESH-INTERVAL:P3D
CALSCALE:GREGORIAN
BEGIN:VEVENT
DTSTART:20251004T170000Z
DTEND:20251004T210000Z
X-MICROSOFT-CDO-ALLDAYEVENT:FALSE
SUMMARY:Blue Heron Trail Dog Stroll & Fall Festival | Town of Bermuda Run
DESCRIPTION:Live music\, local food trucks\, bouncy house for the kids\, best animal costume contest\, and more!
X-ALT-DESC;FMTTYPE=text/html:<div class="xdj266r x14z9mp xat24cr x1lziwak x1vvkbs" style="overflow-wrap: break-word\; margin-inline: 0px\; margin-bottom: 0px\; margin-top: 0px\; font-family: inherit\;"><span class="xdmh292 x15dsfln x140p0ai x1gufx9m x1s928wv xhkezso x1gmr53x x1cpjm7i x1fgarty x1943h6x x193iq5w xeuugli x13faqbe x1vvkbs x1lliihq xzsf02u xlh3980 xvmahel x1x9mg3 xo1l8bm" dir="auto" style="display: block\; overflow-wrap: break-word\; max-width: 100%\; word-break: break-word\; line-height: 19.5762px\; font-size: 15px\; -webkit-font-smoothing: antialiased\; color: rgb(8\, 8\, 9)\; min-width: 0px\; font-family: &quot\;Segoe UI Historic&quot\;\, &quot\;Segoe UI&quot\;\, Helvetica\, Arial\, sans-serif\; margin-top: 16px\; --x-fontSize: 15px\; --x-lineHeight: 19.5762px\; --x-8dd7yt: -0.2385em\; --x-hxtmnb: -0.3615em\;">Live music\, local food trucks\, bouncy house for the kids\, best animal costume contest\, and more!</span></div>\n
LOCATION:Town of Bermuda Run
UID:e.2378.28483
SEQUENCE:3
DTSTAMP:20260425T221308Z
URL:https://business.daviechamber.com/events/details/blue-heron-trail-dog-stroll-fall-festival-town-of-bermuda-run-28483
END:VEVENT

END:VCALENDAR
