BEGIN:VCALENDAR
VERSION:2.0
PRODID:-//ChamberMaster//Event Calendar 2.0//EN
METHOD:PUBLISH
X-PUBLISHED-TTL:P3D
REFRESH-INTERVAL:P3D
CALSCALE:GREGORIAN
BEGIN:VEVENT
DTSTART:20230826T140000Z
DTEND:20230826T170000Z
X-MICROSOFT-CDO-ALLDAYEVENT:FALSE
SUMMARY:Bluey Back To School Bash!
DESCRIPTION:WACKADOO\, Let's Go Back To School! Join us @ Davie County Public Library for a fun Bluey Back To School Bash with fun games\, activities\, snacks\, and crafts for the whole family! Drop in anytime Saturday\, August 26th\, between 10 am - 1 pm!!
X-ALT-DESC;FMTTYPE=text/html:<span style="font-size:18px\;"><span style="font-family:tahoma\;"><span style="color: rgb(5\, 5\, 5)\;">WACKADOO\, Let&#39\;s Go Back To School! Join us @ Davie County Public Library for a fun Bluey Back To School Bash with fun games\, activities\, snacks\, and crafts for the whole family! Drop in anytime Saturday\, August 26th\, between 10 am - 1 pm!!</span></span></span>
LOCATION:Davie County Public Library
UID:e.2378.23187
SEQUENCE:3
DTSTAMP:20260425T201425Z
URL:https://business.daviechamber.com/events/details/bluey-back-to-school-bash-23187
END:VEVENT

END:VCALENDAR
