BEGIN:VCALENDAR
VERSION:2.0
PRODID:-//ChamberMaster//Event Calendar 2.0//EN
METHOD:PUBLISH
X-PUBLISHED-TTL:P3D
REFRESH-INTERVAL:P3D
CALSCALE:GREGORIAN
BEGIN:VEVENT
DTSTART:20230830T223000Z
DTEND:20230831T003000Z
X-MICROSOFT-CDO-ALLDAYEVENT:FALSE
SUMMARY:Boho Floral Art Class
DESCRIPTION:Join us for an evening of relaxation and fun!\n\nWe will be creating two projects:\n\n Flower Pounding Watercolor Art\n\n Botanical Imprint Clay Ornaments\n\nCost: $25 per person\n\nDate: Wednesday\, Aug 30\n\nTime: 6:30p- approx 8:30p\n\nLocation: The Station\, Mocksville\, NC\n\nTo reserve a spot\, text Brooklyne @ 336-782-2908
X-ALT-DESC;FMTTYPE=text/html:<div class="xdj266r x11i5rnm xat24cr x1mh8g0r x1vvkbs" style="margin: 0px\; overflow-wrap: break-word\; font-family: &quot\;Segoe UI Historic&quot\;\, &quot\;Segoe UI&quot\;\, Helvetica\, Arial\, sans-serif\; color: rgb(5\, 5\, 5)\; font-size: 15px\;">Join us for an evening of relaxation and fun!</div>\n\n<div class="x11i5rnm xat24cr x1mh8g0r x1vvkbs xtlvy1s" style="margin: 0.5em 0px 0px\; overflow-wrap: break-word\; font-family: &quot\;Segoe UI Historic&quot\;\, &quot\;Segoe UI&quot\;\, Helvetica\, Arial\, sans-serif\; color: rgb(5\, 5\, 5)\; font-size: 15px\;">We will be creating two projects:<br />\n&bull\;Flower Pounding Watercolor Art<br />\n&bull\;Botanical Imprint Clay Ornaments</div>\n\n<div class="x11i5rnm xat24cr x1mh8g0r x1vvkbs xtlvy1s" style="margin: 0.5em 0px 0px\; overflow-wrap: break-word\; font-family: &quot\;Segoe UI Historic&quot\;\, &quot\;Segoe UI&quot\;\, Helvetica\, Arial\, sans-serif\; color: rgb(5\, 5\, 5)\; font-size: 15px\;">Cost: $25 per person<br />\nDate: Wednesday\, Aug 30<br />\nTime: 6:30p- approx 8:30p<br />\nLocation: The Station\, Mocksville\, NC</div>\n\n<div class="x11i5rnm xat24cr x1mh8g0r x1vvkbs xtlvy1s" style="margin: 0.5em 0px 0px\; overflow-wrap: break-word\; font-family: &quot\;Segoe UI Historic&quot\;\, &quot\;Segoe UI&quot\;\, Helvetica\, Arial\, sans-serif\; color: rgb(5\, 5\, 5)\; font-size: 15px\;">To reserve a spot\, text Brooklyne @ 336-782-2908</div>\n
LOCATION:The Station
UID:e.2378.23202
SEQUENCE:3
DTSTAMP:20260425T201424Z
URL:https://business.daviechamber.com/events/details/boho-floral-art-class-23202
END:VEVENT

END:VCALENDAR
