BEGIN:VCALENDAR
VERSION:2.0
PRODID:-//ChamberMaster//Event Calendar 2.0//EN
METHOD:PUBLISH
X-PUBLISHED-TTL:P3D
REFRESH-INTERVAL:P3D
CALSCALE:GREGORIAN
BEGIN:VEVENT
DTSTART:20170324T133000Z
DTEND:20170324T210000Z
X-MICROSOFT-CDO-ALLDAYEVENT:FALSE
SUMMARY:Book Sale @ DC Library
DESCRIPTION:Buy books individually or $10 for a bag of books\, half price for Friends of the Library.
X-ALT-DESC;FMTTYPE=text/html:Buy books individually or $10 for a bag of books\, half price for Friends of the Library.
LOCATION:Davie County Public Library 371 N Main St Mocksville\, NC 27028
UID:e.2378.11538
SEQUENCE:3
DTSTAMP:20260422T094657Z
URL:https://business.daviechamber.com/events/details/book-sale-dc-library-11538
END:VEVENT

END:VCALENDAR
