BEGIN:VCALENDAR
VERSION:2.0
PRODID:-//ChamberMaster//Event Calendar 2.0//EN
METHOD:PUBLISH
X-PUBLISHED-TTL:P3D
REFRESH-INTERVAL:P3D
CALSCALE:GREGORIAN
BEGIN:VEVENT
DTSTART:20160922T223000Z
DTEND:20160923T010000Z
X-MICROSOFT-CDO-ALLDAYEVENT:FALSE
SUMMARY:Bottles and Brushes
DESCRIPTION:Come paint a beautiful wooden fall pumpkin decor!
X-ALT-DESC;FMTTYPE=text/html:Come paint a beautiful wooden fall pumpkin decor!
LOCATION:Scarlett's Unique Boutique
UID:e.2378.9976
SEQUENCE:3
DTSTAMP:20260421T153921Z
URL:https://business.daviechamber.com/events/details/bottles-and-brushes-09-22-2016-9976
END:VEVENT

END:VCALENDAR
