BEGIN:VCALENDAR
VERSION:2.0
PRODID:-//ChamberMaster//Event Calendar 2.0//EN
METHOD:PUBLISH
X-PUBLISHED-TTL:P3D
REFRESH-INTERVAL:P3D
CALSCALE:GREGORIAN
BEGIN:VEVENT
DTSTART:20161120T200000Z
DTEND:20161120T223000Z
X-MICROSOFT-CDO-ALLDAYEVENT:FALSE
SUMMARY:Bottles and Brushes at Scarlett's
DESCRIPTION:The joyous Christmas season is upon us and this beautiful painting reminds us of the reason for the season. A child is born unto this night. Painted on rustic cedar shake plank approximately 20" tall make it easy to hang or simply lean on your mantle. It's simplistic use of royal blue and a black silhouette makes it a breeze to paint! Gift it to a friend! Special discounted price of $30 but you must pre-register and pay so that these 100 year old planks can be prepped. Bring a friend and some spiced cider and join us this Sunday.
X-ALT-DESC;FMTTYPE=text/html:The joyous Christmas season is upon us and this beautiful painting reminds us of the reason for the season. A child is born unto this night. Painted on rustic cedar shake plank approximately 20&quot\; tall make it easy to hang or simply lean on your mantle. It&#39\;s simplistic use of royal blue and a black silhouette makes it a breeze to paint! Gift it to a friend! Special discounted price of $30 but you must pre-register and pay so that these 100 year old planks can be prepped. Bring a friend and some spiced cider and join us this Sunday.
LOCATION:Scarlett's Unique Boutique 185 N. Main St Mocksville\, NC 27028
UID:e.2378.10804
SEQUENCE:3
DTSTAMP:20260421T143333Z
URL:https://business.daviechamber.com/events/details/bottles-and-brushes-at-scarlett-s-10804
END:VEVENT

END:VCALENDAR
