BEGIN:VCALENDAR
VERSION:2.0
PRODID:-//ChamberMaster//Event Calendar 2.0//EN
METHOD:PUBLISH
X-PUBLISHED-TTL:P3D
REFRESH-INTERVAL:P3D
CALSCALE:GREGORIAN
BEGIN:VEVENT
DTSTART:20161016T183000Z
DTEND:20161016T213000Z
X-MICROSOFT-CDO-ALLDAYEVENT:FALSE
SUMMARY:Bottles and Brushes at Scarlett's Unique Boutique
DESCRIPTION:Fall Cross Canvas Painting Come out and enjoy a fun filled afternoon of learning\, laughter\, creativity\, and even a little wine. $40 each or 2 for $35 each. Pre-registration is strongly recommended to reserve a canvas.
X-ALT-DESC;FMTTYPE=text/html:Fall Cross Canvas Painting Come out and enjoy a fun filled afternoon of learning\, laughter\, creativity\, and even a little wine. $40 each or 2 for $35 each. Pre-registration is strongly recommended to reserve a canvas.
LOCATION:Scarlett's Unique Boutique
UID:e.2378.10424
SEQUENCE:3
DTSTAMP:20260421T155159Z
URL:https://business.daviechamber.com/events/details/bottles-and-brushes-at-scarlett-s-unique-boutique-10424
END:VEVENT

END:VCALENDAR
