BEGIN:VCALENDAR
VERSION:2.0
PRODID:-//ChamberMaster//Event Calendar 2.0//EN
METHOD:PUBLISH
X-PUBLISHED-TTL:P3D
REFRESH-INTERVAL:P3D
CALSCALE:GREGORIAN
BEGIN:VEVENT
DTSTART:20161129T230000Z
DTEND:20161130T010000Z
X-MICROSOFT-CDO-ALLDAYEVENT:FALSE
SUMMARY:Bottles and Brushes at Scarlett's Unique Boutique
DESCRIPTION:Join Scarlett's Unique Boutique for a fun filled afternoon of learning\, laughter and even a little wine. Katrina will instruct you step by step in the creation of your own beautiful keepsake. $40 per person or $70 for two (bring a friend).
X-ALT-DESC;FMTTYPE=text/html:Join Scarlett&#39\;s Unique Boutique for a fun filled afternoon of learning\, laughter and even a little wine. Katrina will instruct you step by step in the creation of your own beautiful keepsake. $40 per person or $70 for two (bring a friend).
LOCATION:Scarlett's Unique Boutique 185 N. Main St. Mocksville\, NC 27028
UID:e.2378.10810
SEQUENCE:3
DTSTAMP:20260421T144159Z
URL:https://business.daviechamber.com/events/details/bottles-and-brushes-at-scarlett-s-unique-boutique-11-29-2016-10810
END:VEVENT

END:VCALENDAR
