BEGIN:VCALENDAR
VERSION:2.0
PRODID:-//ChamberMaster//Event Calendar 2.0//EN
METHOD:PUBLISH
X-PUBLISHED-TTL:P3D
REFRESH-INTERVAL:P3D
CALSCALE:GREGORIAN
BEGIN:VEVENT
DTSTART:20230302T233000Z
DTEND:20230303T013000Z
X-MICROSOFT-CDO-ALLDAYEVENT:FALSE
SUMMARY:BoTyme Country Jubilee
DESCRIPTION:Mask requested - But not required.\n\nHand sanitizer and mask will be available.\n\nCoffee\, softdrinks and packaged food available for sale.\n\nAny food brough in will be placed in kitchen to be served by staff.
X-ALT-DESC;FMTTYPE=text/html:Mask requested - But not required.<br />\nHand sanitizer and mask will be available.<br />\nCoffee\, softdrinks and packaged food available for sale.<br />\nAny food brough in will be placed in kitchen to be served by staff.
LOCATION:Farmington Community Center
UID:e.2378.22493
SEQUENCE:3
DTSTAMP:20260424T092108Z
URL:https://business.daviechamber.com/events/details/botyme-country-jubilee-03-02-2023-22493
END:VEVENT

END:VCALENDAR
