BEGIN:VCALENDAR
VERSION:2.0
PRODID:-//ChamberMaster//Event Calendar 2.0//EN
METHOD:PUBLISH
X-PUBLISHED-TTL:P3D
REFRESH-INTERVAL:P3D
CALSCALE:GREGORIAN
BEGIN:VEVENT
DTSTART:20160305T130000Z
DTEND:20160306T000000Z
X-MICROSOFT-CDO-ALLDAYEVENT:FALSE
SUMMARY:Bowl for Kid's Sake | Big Brothers Big Sisters
DESCRIPTION:Big Brothers Big Sisters doesn't run\, doesn't walk\, doesn't fish ... we bowl! Bowl For Kids' Sake is the nation's largest bowling event that raises critical funds to support the mentoring relationships of Big Brothers Big Sisters. Start a team of co-workers\, friends or relatives and join us at AMF Lanes. Start a team in your community today!
X-ALT-DESC;FMTTYPE=text/html:Big Brothers Big Sisters doesn&#39\;t run\, doesn&#39\;t walk\, doesn&#39\;t fish ... we bowl! Bowl For Kids&#39\; Sake is the nation&#39\;s largest bowling event that raises critical funds to support the mentoring relationships of Big Brothers Big Sisters. Start a team of co-workers\, friends or relatives and join us at AMF Lanes. Start a team in your community today!
LOCATION:AMF Lanes 811 Jonestown Rd\, Winston-Salem
UID:e.2378.4631
SEQUENCE:3
DTSTAMP:20260423T041100Z
URL:https://business.daviechamber.com/events/details/bowl-for-kid-s-sake-big-brothers-big-sisters-03-05-2016-4631
END:VEVENT

END:VCALENDAR
