BEGIN:VCALENDAR
VERSION:2.0
PRODID:-//ChamberMaster//Event Calendar 2.0//EN
METHOD:PUBLISH
X-PUBLISHED-TTL:P3D
REFRESH-INTERVAL:P3D
CALSCALE:GREGORIAN
BEGIN:VEVENT
DTSTART:20230520T160000Z
DTEND:20230520T200000Z
X-MICROSOFT-CDO-ALLDAYEVENT:FALSE
SUMMARY:Brash Brownies | Beignets Food Truck
DESCRIPTION:The Best Beignets!
X-ALT-DESC;FMTTYPE=text/html:<span style="color: rgb(5\, 5\, 5)\; font-family: &quot\;Segoe UI Historic&quot\;\, &quot\;Segoe UI&quot\;\, Helvetica\, Arial\, sans-serif\; font-size: 15px\;">The Best Beignets!</span>
LOCATION:The Station
UID:e.2378.22947
SEQUENCE:3
DTSTAMP:20260424T130302Z
URL:https://business.daviechamber.com/events/details/brash-brownies-beignets-food-truck-22947
END:VEVENT

END:VCALENDAR
