BEGIN:VCALENDAR
VERSION:2.0
PRODID:-//ChamberMaster//Event Calendar 2.0//EN
METHOD:PUBLISH
X-PUBLISHED-TTL:P3D
REFRESH-INTERVAL:P3D
CALSCALE:GREGORIAN
BEGIN:VEVENT
DTSTART:20171111T120000Z
DTEND:20171111T140000Z
X-MICROSOFT-CDO-ALLDAYEVENT:FALSE
SUMMARY:Breakfast for Just Hope\, Inc.
DESCRIPTION:Come join us Saturday morning for breakfast cooked by some pretty amazing people and served by JHI employees and volunteers! All proceeds go towards our Sustainable Housing Program to help transition homeless individuals into their own homes and return to self sufficient. We will have bacon\, sausage\, country ham\, gravy\, biscuits\, eggs\, grits\, and stewed apples...yum! Come get you some good food and support a great cause
X-ALT-DESC;FMTTYPE=text/html:<span style="color: rgb(29\, 33\, 41)\; font-family: Helvetica\, Arial\, sans-serif\; font-size: 14px\; font-style: normal\; font-variant-ligatures: normal\; font-variant-caps: normal\; font-weight: normal\; letter-spacing: normal\; orphans: 2\; text-align: start\; text-indent: 0px\; text-transform: none\; white-space: normal\; widows: 2\; word-spacing: 0px\; -webkit-text-stroke-width: 0px\; background-color: rgb(255\, 255\, 255)\; text-decoration-style: initial\; text-decoration-color: initial\; display: inline !important\; float: none\;">Come join us Saturday morning for breakfast cooked by some pretty amazing people and served by JHI employees and volunteers! All proceeds go towards our Sustainable Housing Program to help transition homeless individuals into their own homes and return to self sufficient. We will have bacon\, sausage\, country ham\, gravy\, biscuits\, eggs\, grits\, and stewed apples...yum! Come get you some good food and support a great cause<span> </span></span>
LOCATION:First Presbyterian Church 261 South Main Stree Mocksville
UID:e.2378.13288
SEQUENCE:3
DTSTAMP:20260421T223116Z
URL:https://business.daviechamber.com/events/details/breakfast-for-just-hope-inc-13288
END:VEVENT

END:VCALENDAR
