BEGIN:VCALENDAR
VERSION:2.0
PRODID:-//ChamberMaster//Event Calendar 2.0//EN
METHOD:PUBLISH
X-PUBLISHED-TTL:P3D
REFRESH-INTERVAL:P3D
CALSCALE:GREGORIAN
BEGIN:VEVENT
DTSTART:20161217T130000Z
DTEND:20161217T160000Z
X-MICROSOFT-CDO-ALLDAYEVENT:FALSE
SUMMARY:Breakfast with Santa @ Sagebrush Steakhouse
DESCRIPTION:Sagebrush Steakhouse will be hosting a Breakfast with Santa fundraiser to benefit The Dragonfly House. Breakfast will be served from 8:00 am to 11:00 am\, with Santa and Mrs. Clause arriving at 9:00 am to greet children and pose for pictures. Be sure to bring your camera!\n\nTickets are $5.00 per person and include a pancake breakfast with bacon\, a beverage\, and free access to pictures with Santa.
X-ALT-DESC;FMTTYPE=text/html:Sagebrush Steakhouse will be hosting a Breakfast with Santa fundraiser to benefit The Dragonfly House. Breakfast will be served from 8:00 am to 11:00 am\, with Santa and Mrs. Clause arriving at 9:00 am to greet children and pose for pictures. Be sure to bring your camera!<br />\nTickets are $5.00 per person and include a pancake breakfast with bacon\, a beverage\, and free access to pictures with Santa.
LOCATION:Sagebrush Steakhouse 1562 Yadkinville Rd Mocksville\, NC 27028
UID:e.2378.10840
SEQUENCE:3
DTSTAMP:20260422T141348Z
URL:https://business.daviechamber.com/events/details/breakfast-with-santa-sagebrush-steakhouse-10840
END:VEVENT

END:VCALENDAR
