BEGIN:VCALENDAR
VERSION:2.0
PRODID:-//ChamberMaster//Event Calendar 2.0//EN
METHOD:PUBLISH
X-PUBLISHED-TTL:P3D
REFRESH-INTERVAL:P3D
CALSCALE:GREGORIAN
BEGIN:VEVENT
DTSTART:20160424T180000Z
DTEND:20160424T210000Z
X-MICROSOFT-CDO-ALLDAYEVENT:FALSE
SUMMARY:Bring It Blue: Zumbathon® for Autism Speaks
DESCRIPTION:This co-ed dance-fitness party will feature DJ Daniel Acosta\, 22 Certified Zumba  Fitness Instructors\, refreshments\, vendors\, incredible door prizes\, photo opportunities\, t-shirt cutting\, and FREE CHILDCARE! I organized this event as a way to honor my six year old son\, Fletcher\, who has autism\, says Event Coordinator Jessie Tucker Mitchell\, of Winston-Salem. Bring It Blue is about raising money for a worthy cause\, but also about raising autism awareness\, and we are excited to invite the entire Triad community to help us accomplish these goals. Last year's Bring It Blue was a huge success and we look forward to dancing for such an important cause again this year. Come party with us! We hope to see YOU in BLUE on April 24th!
X-ALT-DESC;FMTTYPE=text/html:This co-ed dance-fitness party will feature DJ Daniel Acosta\, 22 Certified Zumba&reg\; Fitness Instructors\, refreshments\, vendors\, incredible door prizes\, photo opportunities\, t-shirt cutting\, and FREE CHILDCARE! I organized this event as a way to honor my six year old son\, Fletcher\, who has autism\, says Event Coordinator Jessie Tucker Mitchell\, of Winston-Salem. Bring It Blue is about raising money for a worthy cause\, but also about raising autism awareness\, and we are excited to invite the entire Triad community to help us accomplish these goals. Last year&#39\;s Bring It Blue was a huge success and we look forward to dancing for such an important cause again this year. Come party with us! We hope to see YOU in BLUE on April 24th!
LOCATION:Village Inn Event Center 6205 Ramada Drive\, Clemmons NC 27012
UID:e.2378.4547
SEQUENCE:3
DTSTAMP:20260423T040941Z
URL:https://business.daviechamber.com/events/details/bring-it-blue-zumbathon-for-autism-speaks-04-24-2016-4547
END:VEVENT

END:VCALENDAR
