BEGIN:VCALENDAR
VERSION:2.0
PRODID:-//ChamberMaster//Event Calendar 2.0//EN
METHOD:PUBLISH
X-PUBLISHED-TTL:P3D
REFRESH-INTERVAL:P3D
CALSCALE:GREGORIAN
BEGIN:VEVENT
DTSTART:20161201T213000Z
DTEND:20161201T233000Z
X-MICROSOFT-CDO-ALLDAYEVENT:FALSE
SUMMARY:Business After Hours at Bank of the Ozarks - Tis the Season to Give Back
DESCRIPTION:Make a change with your pocket change.\n\n\n\nJoin Bank of the Ozarks and the Davie County Chamber of Commerce for a holiday celebration. All proceeds go to Toys for Tots and Shop with a Cop.
X-ALT-DESC;FMTTYPE=text/html:Make a change with your pocket change.<br />\n<br />\nJoin Bank of the Ozarks and the Davie County Chamber of Commerce for a holiday celebration. All proceeds go to Toys for Tots and Shop with a Cop.
LOCATION:Bank of the Ozarks 352 NC Hwy 801 S Advance\, NC 27006
UID:e.2378.10576
SEQUENCE:3
DTSTAMP:20260422T141606Z
URL:https://business.daviechamber.com/events/details/business-after-hours-at-bank-of-the-ozarks-tis-the-season-to-give-back-10576
END:VEVENT

END:VCALENDAR
