BEGIN:VCALENDAR
VERSION:2.0
PRODID:-//ChamberMaster//Event Calendar 2.0//EN
METHOD:PUBLISH
X-PUBLISHED-TTL:P3D
REFRESH-INTERVAL:P3D
CALSCALE:GREGORIAN
BEGIN:VEVENT
DTSTART:20151006T200000Z
DTEND:20151006T220000Z
X-MICROSOFT-CDO-ALLDAYEVENT:FALSE
SUMMARY:Business After Hours / Open House @ Davie Medical Center - Mocksville
DESCRIPTION:The Davie County Chamber of Commerce and Davidson County Community College are hosting an Business After Hours / Open House to introduce the new Associate in Applied Science Surgical Technology and the Central Sterile Processing certificate program.  \n\nYou are invited to come and learn how these state-of-the-art programs will educate adn train our workforce and contribute to our region's economic health. \n\nCome enjoy great networking and complimentary refreshments.  Please RSVP to the Davie Chamber so our host may plan accordingly.
X-ALT-DESC;FMTTYPE=text/html:The Davie County Chamber of Commerce and Davidson County Community College are hosting an Business After Hours / Open House to introduce the new Associate in Applied Science Surgical Technology and the Central Sterile Processing certificate program. &nbsp\;<br />\nYou are invited to come and learn how these state-of-the-art programs will educate adn train our workforce and contribute to our region&#39\;s economic health.&nbsp\;<br />\nCome enjoy great networking and complimentary refreshments.&nbsp\; Please RSVP to the Davie Chamber so our host may plan accordingly.<br />\n&nbsp\;
LOCATION:Davie Medical Center - Mocksville 223 Hospital Street\, Mocksville
UID:e.2378.3953
SEQUENCE:3
DTSTAMP:20260422T072652Z
URL:https://business.daviechamber.com/events/details/business-after-hours-open-house-davie-medical-center-mocksville-10-06-2015-3953
END:VEVENT

END:VCALENDAR
