BEGIN:VCALENDAR
VERSION:2.0
PRODID:-//ChamberMaster//Event Calendar 2.0//EN
METHOD:PUBLISH
X-PUBLISHED-TTL:P3D
REFRESH-INTERVAL:P3D
CALSCALE:GREGORIAN
BEGIN:VEVENT
DTSTART:20230420T130000Z
DTEND:20230420T160000Z
X-MICROSOFT-CDO-ALLDAYEVENT:FALSE
SUMMARY:Business Essentials Class
DESCRIPTION:Participants will focus on the importance of proper basic business practices in an office setting. They will develop proper skills that are essential for businesses to function. Course work will focus on email and phone etiquette\, communication skills\, conflict resoultion and will define basic office basic business workplace.\n\n\n\nQuestions? 336.249.8186 ext 6334 | jessica_warren@davidsondavie.edu
X-ALT-DESC;FMTTYPE=text/html:Participants will focus on the importance of proper basic business practices in an office setting. They will develop proper skills that are essential for businesses to function. Course work will focus on email and phone etiquette\, communication skills\, conflict resoultion and will define basic office basic business workplace.<br />\n<br />\nQuestions? 336.249.8186 ext 6334 | jessica_warren@davidsondavie.edu
LOCATION:Davidson-Davie Community College (Davie Campus)
UID:e.2378.22546
SEQUENCE:3
DTSTAMP:20260424T114655Z
URL:https://business.daviechamber.com/events/details/business-essentials-class-04-20-2023-22546
END:VEVENT

END:VCALENDAR
