BEGIN:VCALENDAR
VERSION:2.0
PRODID:-//ChamberMaster//Event Calendar 2.0//EN
METHOD:PUBLISH
X-PUBLISHED-TTL:P3D
REFRESH-INTERVAL:P3D
CALSCALE:GREGORIAN
BEGIN:VEVENT
DTSTART;VALUE=DATE:20230421
DTEND;VALUE=DATE:20230422
TRANSP:TRANSPARENT
X-MICROSOFT-CDO-ALLDAYEVENT:TRUE
SUMMARY:Business Guide Deadline
DESCRIPTION:BG FORM
X-ALT-DESC;FMTTYPE=text/html:<u><strong><a href="https://chambermaster.blob.core.windows.net/userfiles/UserFiles/chambers/2378/File/AdReservation2023single.pdf">BG FORM</a></strong></u>
LOCATION:
UID:e.2378.22789
SEQUENCE:3
DTSTAMP:20260424T114546Z
URL:https://business.daviechamber.com/events/details/business-guide-deadline-22789
END:VEVENT

END:VCALENDAR
