BEGIN:VCALENDAR
VERSION:2.0
PRODID:-//ChamberMaster//Event Calendar 2.0//EN
METHOD:PUBLISH
X-PUBLISHED-TTL:P3D
REFRESH-INTERVAL:P3D
CALSCALE:GREGORIAN
BEGIN:VEVENT
DTSTART:20260203T130000Z
DTEND:20260203T140000Z
X-MICROSOFT-CDO-ALLDAYEVENT:FALSE
SUMMARY:C-Suite Collective (Networking Group)
DESCRIPTION:Networking Event for Chamber Members\n\n\n\nSuccess thrives on connections\, and every business owner and professional deserves a network that inspires\, supports\, and empowers growth. As you continue striving for excellence\, we're here to provide a platform that matches your dedication. In 2026\, we're thrilled to introduce C-SUITE Collective - a premier referral group designed to elevate your professional journey and amplify your impact.\n\n\n\nThis group will meet bi-weekly starting January 20\, 2026\n\n\n\nFor more information:\n\nChamber Board of Director: Trent Howerton\n\n(336) 391-9719
X-ALT-DESC;FMTTYPE=text/html:<span style="font-size:18px\;"><span style="font-family:tahoma\;"><span style="color:#000000\;">Networking Event for Chamber Members<br />\n<br />\nSuccess thrives on connections\, and every business owner and professional deserves a network that inspires\, supports\, and empowers growth. As you continue striving for excellence\, we&rsquo\;re here to provide a platform that matches your dedication. In 2026\, we&rsquo\;re thrilled to introduce C-SUITE Collective - a premier referral group designed to elevate your professional journey and amplify your impact.<br />\n<br />\nThis group will meet bi-weekly starting January 20\, 2026<br />\n<br />\nFor more information:</span></span></span><br />\n<span style="color: rgb(0\, 0\, 0)\; font-family: tahoma\; font-size: 18px\;">Chamber Board of Director: Trent Howerton</span><br class="html-br" style="color: rgb(0\, 0\, 0)\; font-family: tahoma\; font-size: 18px\;" />\n<span style="color: rgb(0\, 0\, 0)\; font-family: tahoma\; font-size: 18px\;">(336) 391-9719</span><br class="html-br" style="color: rgb(0\, 0\, 0)\; font-family: tahoma\; font-size: 18px\;" />\n&nbsp\;
LOCATION:Davie County Chamber of Commerce
UID:e.2378.29301
SEQUENCE:3
DTSTAMP:20260424T121145Z
URL:https://business.daviechamber.com/events/details/c-suite-collective-networking-group-29301
END:VEVENT

END:VCALENDAR
