BEGIN:VCALENDAR
VERSION:2.0
PRODID:-//ChamberMaster//Event Calendar 2.0//EN
METHOD:PUBLISH
X-PUBLISHED-TTL:P3D
REFRESH-INTERVAL:P3D
CALSCALE:GREGORIAN
BEGIN:VEVENT
DTSTART:20260825T213000Z
DTEND:20260825T230000Z
X-MICROSOFT-CDO-ALLDAYEVENT:FALSE
SUMMARY:C-Suite Collective Social by Davie Chamber
DESCRIPTION:C Suite Collective Social\n\n\n\n\n\n\n\n\nBusiness professionals are invited to attend the C Suite Collective Social\, an open networking event designed to connect leaders\, entrepreneurs\, and decision makers in a relaxed and welcoming setting.\n\nJoin us at Thai Destiny for an evening of open networking and meaningful conversation while supporting a local restaurant.\n\nDate:Last Tuesday of every month\n\nTime: 5:30 PM\n\nLocation: Thai Destiny\n\nThis event is open to business professionals who want to expand their network\, build meaningful relationships\, and engage with fellow members of the business community.\n\nFor more information\, contact Trent at 760.845.6812.
X-ALT-DESC;FMTTYPE=text/html:<article class="text-token-text-primary w-full focus:outline-none [--shadow-height:45px] has-data-writing-block:pointer-events-none has-data-writing-block:-mt-(--shadow-height) has-data-writing-block:pt-(--shadow-height) [&amp\;:has([data-writing-block])&gt\;*]:pointer-events-auto scroll-mt-(--header-height)" data-scroll-anchor="false" data-testid="conversation-turn-9" data-turn="user" data-turn-id="0a80db9d-2633-4822-ac7d-8f70aa83f8b7" dir="auto" tabindex="-1"><strong data-end="29" data-start="0">C Suite Collective Social</strong></article>\n\n<article class="text-token-text-primary w-full focus:outline-none [--shadow-height:45px] has-data-writing-block:pointer-events-none has-data-writing-block:-mt-(--shadow-height) has-data-writing-block:pt-(--shadow-height) [&amp\;:has([data-writing-block])&gt\;*]:pointer-events-auto scroll-mt-[calc(var(--header-height)+min(200px\,max(70px\,20svh)))]" data-scroll-anchor="true" data-testid="conversation-turn-10" data-turn="assistant" data-turn-id="request-WEB:ee18d829-36ef-424a-9498-7e260545a57c-4" dir="auto" tabindex="-1">\n<div class="text-base my-auto mx-auto pb-10 [--thread-content-margin:--spacing(4)] @w-sm/main:[--thread-content-margin:--spacing(6)] @w-lg/main:[--thread-content-margin:--spacing(16)] px-(--thread-content-margin)">\n<div class="[--thread-content-max-width:40rem] @w-lg/main:[--thread-content-max-width:48rem] mx-auto max-w-(--thread-content-max-width) flex-1 group/turn-messages focus-visible:outline-hidden relative flex w-full min-w-0 flex-col agent-turn" tabindex="-1">\n<div class="flex max-w-full flex-col grow">\n<div class="min-h-8 text-message relative flex w-full flex-col items-end gap-2 text-start break-words whitespace-normal [.text-message+&amp\;]:mt-1" data-message-author-role="assistant" data-message-id="b5dd66c3-6ba6-4223-a173-e57472f8cccc" data-message-model-slug="gpt-5-2" dir="auto">\n<div class="flex w-full flex-col gap-1 empty:hidden first:pt-[1px]">\n<div class="markdown prose dark:prose-invert w-full wrap-break-word light markdown-new-styling">\n<p data-end="231" data-start="31">Business professionals are invited to attend the C Suite Collective Social\, an open networking event designed to connect leaders\, entrepreneurs\, and decision makers in a relaxed and welcoming setting.</p>\n\n<p data-end="359" data-start="233">Join us at <strong data-end="260" data-start="244">Thai Destiny</strong> for an evening of open networking and meaningful conversation while supporting a local restaurant.</p>\n\n<p data-end="434" data-start="361">Date:Last Tuesday of every month<br data-end="396" data-start="393" />\nTime: 5:30 PM<br data-end="411" data-start="408" />\nLocation: Thai Destiny</p>\n\n<p data-end="604" data-start="436">This event is open to business professionals who want to expand their network\, build meaningful relationships\, and engage with fellow members of the business community.</p>\n\n<p data-end="658" data-is-last-node="" data-is-only-node="" data-start="606">For more information\, contact Trent at 760.845.6812.</p>\n</div>\n</div>\n</div>\n</div>\n</div>\n</div>\n</article>\n
LOCATION:
UID:e.2378.30315
SEQUENCE:3
DTSTAMP:20260424T161818Z
URL:https://business.daviechamber.com/events/details/c-suite-collective-social-by-davie-chamber-08-25-2026-30315
END:VEVENT

END:VCALENDAR
