BEGIN:VCALENDAR
VERSION:2.0
PRODID:-//ChamberMaster//Event Calendar 2.0//EN
METHOD:PUBLISH
X-PUBLISHED-TTL:P3D
REFRESH-INTERVAL:P3D
CALSCALE:GREGORIAN
BEGIN:VEVENT
DTSTART:20190703T110000Z
DTEND:20190703T120000Z
X-MICROSOFT-CDO-ALLDAYEVENT:FALSE
SUMMARY:CANCELLED SUNRISE UPDATE -Chamber Networks
DESCRIPTION:This month's Sunrise Update will be cancelled due to the Forth of July weekend. Enjoy your holiday weekend and we will see you next month!\n\n\n\nAdd the FIRST Wednesday of each month to your calendar for our SUNRISE UPDATE ... We meet EARLY for a business news update from different areas of Davie County at The Bomar Law Firm.\n\nDavie County Transportation Update presented by Pat Ivey\, PE\, NCDOT Division Engineer\n\n \n\nDon't miss this opportunity to BENEFIT from this update & BUILD your network at the same time!\n\n \n*Every Monday - Weekly Networking Group - Sagebrush Steakhouse Mocksville - 11:30 am - 1 pm\n\n*1st Wednesday of each month - Sunrise Update - 7:00am - 8:00am - The Bomar Law Firm\n\n*4th Tuesday of each month "Let's Do Lunch & Learn" Monthly Meeting - Captain's Galley Seafood Shack | 190 NC Hwy 801\, Bermuda Run | 11:45 to 1:00 pm
X-ALT-DESC;FMTTYPE=text/html:This month&#39\;s Sunrise Update will be cancelled due to the Forth of July weekend. Enjoy your holiday weekend and we will see you next month!<br />\n<br />\nAdd the FIRST Wednesday of each month to your calendar for<em> our SUNRISE</em> <em>UPDATE</em> ... We meet EARLY for a business news update from different areas of Davie County <span>at The Bomar Law Firm.</span><br />\n<strong><em>Davie County Transportation Update</em></strong> presented by Pat Ivey\, PE\, NCDOT Division Engineer<br />\n&nbsp\;<br />\n<span>Don&#39\;t miss this opportunity to BENEFIT from this update &amp\; BUILD your network at the same time!</span><br />\n&nbsp\;\n<p style="box-sizing: border-box\; margin: 5px 0px\; padding: 0px\; list-style-type: none\; line-height: 15px\; font-family: Arial\, &quot\;Helvetica Neue&quot\;\, Helvetica\, sans-serif\; font-size: 11px\; color: rgb(68\, 68\, 68)\;">*<strong>Every Monday</strong>&nbsp\;- Weekly Networking Group - Sagebrush Steakhouse Mocksville - 11:30 am - 1 pm<br />\n*<strong>1st Wednesday of each month</strong>&nbsp\;- Sunrise Update - 7:00am - 8:00am - The Bomar Law Firm</p>\n\n<p style="box-sizing: border-box\; margin: 5px 0px\; padding: 0px\; list-style-type: none\; line-height: 15px\; font-family: Arial\, &quot\;Helvetica Neue&quot\;\, Helvetica\, sans-serif\; font-size: 11px\; color: rgb(68\, 68\, 68)\;"><strong>*4th Tuesday of each month&nbsp\;</strong>&quot\;Let&#39\;s Do Lunch &amp\; Learn&quot\; Monthly Meeting - Captain&#39\;s Galley Seafood Shack | 190 NC Hwy 801\, Bermuda Run | 11:45 to 1:00 pm</p>\n<br />\n<span>&nbsp\;</span><br />\n&nbsp\;
LOCATION:The Bomar Law Firm 148 West Water St.\, Suite 101 Mocksville\, NC 27028
UID:e.2378.15298
SEQUENCE:3
DTSTAMP:20260423T171353Z
URL:https://business.daviechamber.com/events/details/cancelled-sunrise-update-chamber-networks-15298
END:VEVENT

END:VCALENDAR
