BEGIN:VCALENDAR
VERSION:2.0
PRODID:-//ChamberMaster//Event Calendar 2.0//EN
METHOD:PUBLISH
X-PUBLISHED-TTL:P3D
REFRESH-INTERVAL:P3D
CALSCALE:GREGORIAN
BEGIN:VEVENT
DTSTART;VALUE=DATE:20170623
DTEND;VALUE=DATE:20170624
TRANSP:TRANSPARENT
X-MICROSOFT-CDO-ALLDAYEVENT:TRUE
SUMMARY:Cancer Services Fundraiser @ Allegacy
DESCRIPTION:HOT DOG FUNDRAISER and ALL PROCEEDS WILL BE DONATED TO CANCER SERVICES...Friday\, June 23rd at Mocksville Financial Center.  Enjoy 2 hot dogs\, chips and a drink for only $5.  Place your orders TODAY via mwilliams@allegacy.org.\n\n\n\n*** PREORDERS RECEIVED BY JUNE 16TH CAN BE DELIVERED WITHIN REASONABLE DISTANCE TO THE MOCKSVILLE AFCU ***
X-ALT-DESC;FMTTYPE=text/html:HOT DOG FUNDRAISER and ALL PROCEEDS WILL BE DONATED TO CANCER SERVICES...Friday\, June 23rd at Mocksville Financial Center. &nbsp\;Enjoy 2 hot dogs\, chips and a drink for only $5. &nbsp\;Place your orders TODAY via <a href="mailto:MWILLIAMS@ALLEGACY.ORG?subject=Hot%20Dog%20Fundraiser">mwilliams@allegacy.org.</a><br />\n<br />\n<em>*** PREORDERS RECEIVED BY JUNE 16TH CAN BE DELIVERED WITHIN REASONABLE DISTANCE TO THE MOCKSVILLE AFCU ***</em>
LOCATION:Mocksville Financial Center\, Allegacy 256 Hospital Street Mocksville\, NC 27028
UID:e.2378.11861
SEQUENCE:3
DTSTAMP:20260422T055145Z
URL:https://business.daviechamber.com/events/details/cancer-services-fundraiser-allegacy-11861
END:VEVENT

END:VCALENDAR
