BEGIN:VCALENDAR
VERSION:2.0
PRODID:-//ChamberMaster//Event Calendar 2.0//EN
METHOD:PUBLISH
X-PUBLISHED-TTL:P3D
REFRESH-INTERVAL:P3D
CALSCALE:GREGORIAN
BEGIN:VEVENT
DTSTART:20161113T003000Z
DTEND:20161113T030000Z
X-MICROSOFT-CDO-ALLDAYEVENT:FALSE
SUMMARY:Casino Night sponsored by The Davie County Arts Council
DESCRIPTION:Casino Night\n\nSponsored by The Davie County Arts Council\n\nProfessional Gaming Tables & Dealers\n\nLight Refreshments\n\nDJ/Dance Floor\n\nBingo Room\n\nSilent Auction\n\nEach Ticket Holder gets $300 in PLAY Money
X-ALT-DESC;FMTTYPE=text/html:Casino Night<br />\nSponsored by The Davie County Arts Council<br />\nProfessional Gaming Tables &amp\; Dealers<br />\nLight Refreshments<br />\nDJ/Dance Floor<br />\nBingo Room<br />\nSilent Auction<br />\nEach Ticket Holder gets $300 in PLAY Money
LOCATION:Bermuda Run Country Club 324 Bermuda Run Drive Bermuda Run\, NC 27006
UID:e.2378.7462
SEQUENCE:3
DTSTAMP:20260422T160224Z
URL:https://business.daviechamber.com/events/details/casino-night-sponsored-by-the-davie-county-arts-council-11-12-2016-7462
END:VEVENT

END:VCALENDAR
