BEGIN:VCALENDAR
VERSION:2.0
PRODID:-//ChamberMaster//Event Calendar 2.0//EN
METHOD:PUBLISH
X-PUBLISHED-TTL:P3D
REFRESH-INTERVAL:P3D
CALSCALE:GREGORIAN
BEGIN:VEVENT
DTSTART:20190723T154500Z
DTEND:20190723T170000Z
X-MICROSOFT-CDO-ALLDAYEVENT:FALSE
SUMMARY:Chamber Monthly Meeting
DESCRIPTION:This is an open networking event @ Captain's Galley Seafood specifically for our chamber members to provide them with multiple opportunities to meet and develop relationships with fellow business owners in our community. Leslie Speas with The Resource will be presenting on Leadership for our July meeting!\n\n \n*Every Monday - Weekly Networking Group @ Sagebrush Steakhouse Mocksville - 11:30 am - 1 pm\n\n\n\n*1st Wednesday of each month - Sunrise Update @ The Bomar Law Firm - 7:00 am - 8:00 am\n\n \n\n*4th Tuesday of each month  Chamber Monthly Meeting @ Captain's Galley Seafood Shack - 11:45 am to 1:00 pm
X-ALT-DESC;FMTTYPE=text/html:This is an open networking event @ Captain&#39\;s Galley Seafood specifically for our chamber members to provide them with multiple opportunities to meet and develop relationships with fellow business owners in our community. Leslie Speas with The Resource will be presenting on Leadership for our July meeting!<br />\n&nbsp\;\n<p style="box-sizing: border-box\; margin: 5px 0px\; padding: 0px\; list-style-type: none\; line-height: 15px\; font-family: Arial\, &quot\;Helvetica Neue&quot\;\, Helvetica\, sans-serif\; font-size: 11px\; color: rgb(68\, 68\, 68)\;">*<strong>Every Monday</strong>&nbsp\;- Weekly Networking Group @ Sagebrush Steakhouse Mocksville - 11:30 am - 1 pm<br />\n<br />\n*<strong>1st Wednesday of each month</strong>&nbsp\;- Sunrise Update @ The Bomar Law Firm - 7:00 am - 8:00 am<br />\n&nbsp\;</p>\n\n<p style="box-sizing: border-box\; margin: 5px 0px\; padding: 0px\; list-style-type: none\; line-height: 15px\; font-family: Arial\, &quot\;Helvetica Neue&quot\;\, Helvetica\, sans-serif\; font-size: 11px\; color: rgb(68\, 68\, 68)\;"><strong>*4th Tuesday of each month&nbsp\; </strong>Chamber Monthly Meeting @ Captain&#39\;s Galley Seafood Shack - 11:45 am to 1:00 pm</p>\n
LOCATION:Captain's Galley Seafood Shack 218 NC Hwy 801 N Bermuda Run\, NC 27006
UID:e.2378.13795
SEQUENCE:3
DTSTAMP:20260423T171416Z
URL:https://business.daviechamber.com/events/details/chamber-monthly-meeting-13795
END:VEVENT

END:VCALENDAR
