BEGIN:VCALENDAR
VERSION:2.0
PRODID:-//ChamberMaster//Event Calendar 2.0//EN
METHOD:PUBLISH
X-PUBLISHED-TTL:P3D
REFRESH-INTERVAL:P3D
CALSCALE:GREGORIAN
BEGIN:VEVENT
DTSTART:20250325T153000Z
DTEND:20250325T170000Z
X-MICROSOFT-CDO-ALLDAYEVENT:FALSE
SUMMARY:Chamber Monthly Meeting - No Meeting in March
DESCRIPTION:This is an open networking event @ WinMock at Kinderton specifically for our chamber members to provide them with multiple opportunities to meet and develop relationships with fellow business owners in our community.\n\n\n\nGuests are permitted to attend up to two networking meetings before joining the Chamber.
X-ALT-DESC;FMTTYPE=text/html:<span style="font-size:14px\;"><span style="font-family:arial\;">This is an open networking event @ WinMock at Kinderton specifically for our chamber members to provide them with multiple opportunities to meet and develop relationships with fellow business owners in our community.<br />\n<br />\nGuests are permitted to attend up to two networking meetings before joining the Chamber.</span></span>\n<p style="box-sizing: border-box\; margin: 5px 0px\; padding: 0px\; list-style-type: none\; line-height: 15px\; font-family: Arial\, &quot\;Helvetica Neue&quot\;\, Helvetica\, sans-serif\; font-size: 11px\; color: rgb(68\, 68\, 68)\;">&nbsp\;</p>\n
LOCATION:WinMock at Kinderton
UID:e.2378.13863
SEQUENCE:3
DTSTAMP:20260426T021810Z
URL:https://business.daviechamber.com/events/details/chamber-monthly-meeting-no-meeting-in-march-13863
END:VEVENT

END:VCALENDAR
