BEGIN:VCALENDAR
VERSION:2.0
PRODID:-//ChamberMaster//Event Calendar 2.0//EN
METHOD:PUBLISH
X-PUBLISHED-TTL:P3D
REFRESH-INTERVAL:P3D
CALSCALE:GREGORIAN
BEGIN:VEVENT
DTSTART:20161211T233000Z
DTEND:20161212T013000Z
X-MICROSOFT-CDO-ALLDAYEVENT:FALSE
SUMMARY:Christmas Gala for HOPE
DESCRIPTION:A Christmas Gala for HOPE\n\n\n\nJoin Corners Coffee + Art + Framing for a fun filled evening of great travel\, fellowship\, music\, food\, and wine from Italy\, Germany\, France\, and Turkey! Exquisite wine and food will be paired together for a savory evening where gala goers will gather for a celebration of the Christmas season and to share with those in need. Excitedly the proceeds from the evening will be used to support HOPE for HAITI - a children's relief effort in Haiti.
X-ALT-DESC;FMTTYPE=text/html:A Christmas Gala for HOPE<br />\n<br />\nJoin Corners Coffee + Art + Framing for a fun filled evening of great travel\, fellowship\, music\, food\, and wine from Italy\, Germany\, France\, and Turkey! Exquisite wine and food will be paired together for a savory evening where gala goers will gather for a celebration of the Christmas season and to share with those in need. Excitedly the proceeds from the evening will be used to support HOPE for HAITI - a children&#39\;s relief effort in Haiti.
LOCATION:Corners Coffee + Art + Framing 5539 US Hwy 158 Bermuda Run\, NC 27006
UID:e.2378.10806
SEQUENCE:3
DTSTAMP:20260422T141225Z
URL:https://business.daviechamber.com/events/details/christmas-gala-for-hope-10806
END:VEVENT

END:VCALENDAR
