BEGIN:VCALENDAR
VERSION:2.0
PRODID:-//ChamberMaster//Event Calendar 2.0//EN
METHOD:PUBLISH
X-PUBLISHED-TTL:P3D
REFRESH-INTERVAL:P3D
CALSCALE:GREGORIAN
BEGIN:VEVENT
DTSTART:20161203T140000Z
DTEND:20161203T190000Z
X-MICROSOFT-CDO-ALLDAYEVENT:FALSE
SUMMARY:Christmas in Farmington
DESCRIPTION:Farmington Community Center will host the annual Christmas in Farmington event on Saturday\, December 3rd from 9:00 am to 2:00 pm.\n\n\n\nThe day will feature work from some of the creative artisans that call Davie County home. Pottery\, woo-turned items\, artwork\, and pet items are just some of the items to be found by the 24 artisans\, crafters\, bakers\, and vendors. Representatives from LuLaRoe\, Thirty-One\, and Younique will also be on hand to assist shoppers looking for the perfect gift for everyone on their list.\n\n\n\nSingers from the community will provide Christmas selections throughout the day and a variety of homemade soups and sandwiches will be available for lunch.\n\n\n\nThere will be children's activities including a bounce house from D's Cloud Bounce\, characters from Jus' Go Play will be available for photos\, and Santa and Mrs. Clause making a special visit to check on the naughty and nice list and to take requests from Christmas wish lists.\n\n\n\nThe Christmas in Farmington event is free with donations being accepted for lunch.
X-ALT-DESC;FMTTYPE=text/html:<p>Farmington Community Center will host the annual&nbsp\;<strong>Christmas in Farmington</strong>&nbsp\;event on Saturday\, December 3rd from 9:00 am to 2:00 pm.<br />\n<br />\nThe day will feature work from some of the creative artisans that call Davie County home. Pottery\, woo-turned items\, artwork\, and pet items are just some of the items to be found by the 24 artisans\, crafters\, bakers\, and vendors. Representatives from LuLaRoe\, Thirty-One\, and Younique will also be on hand to assist shoppers looking for the perfect gift for everyone on their list.<br />\n<br />\nSingers from the community will provide Christmas selections throughout the day and a variety of homemade soups and sandwiches will be available for lunch.<br />\n<br />\nThere will be children&#39\;s activities including a bounce house from&nbsp\;D&#39\;s Cloud Bounce\, characters from Jus&#39\; Go Play will be available for photos\, and Santa and Mrs. Clause making a special visit to check on the naughty and nice list and to take requests from Christmas wish lists.<br />\n<br />\nThe&nbsp\;<strong>Christmas in Farmington&nbsp\;</strong>event is free with donations being accepted for lunch.</p>\n
LOCATION:Farmington Community Center & Nature Park 1723 Farmington Road Mocksville\, NC 27028
UID:e.2378.10818
SEQUENCE:3
DTSTAMP:20260422T141255Z
URL:https://business.daviechamber.com/events/details/christmas-in-farmington-10818
END:VEVENT

END:VCALENDAR
