BEGIN:VCALENDAR
VERSION:2.0
PRODID:-//ChamberMaster//Event Calendar 2.0//EN
METHOD:PUBLISH
X-PUBLISHED-TTL:P3D
REFRESH-INTERVAL:P3D
CALSCALE:GREGORIAN
BEGIN:VEVENT
DTSTART:20230505T230000Z
DTEND:20230506T020000Z
X-MICROSOFT-CDO-ALLDAYEVENT:FALSE
SUMMARY:Cinco de Mayo @ The Station
DESCRIPTION:Come celebrate Cinco de Mayo with Dasher St. Duo!! An acoustic duo that plays Americana\, Rock\, & Pop covers.
X-ALT-DESC;FMTTYPE=text/html:<span style="font-size:16px\;"><span style="font-family:tahoma\;">Come celebrate Cinco de Mayo with Dasher St. Duo!! An acoustic duo that plays Americana\, Rock\, &amp\; Pop covers.</span></span>
LOCATION:The Station
UID:e.2378.22906
SEQUENCE:3
DTSTAMP:20260424T125720Z
URL:https://business.daviechamber.com/events/details/cinco-de-mayo-the-station-22906
END:VEVENT

END:VCALENDAR
