BEGIN:VCALENDAR
VERSION:2.0
PRODID:-//ChamberMaster//Event Calendar 2.0//EN
METHOD:PUBLISH
X-PUBLISHED-TTL:P3D
REFRESH-INTERVAL:P3D
CALSCALE:GREGORIAN
BEGIN:VEVENT
DTSTART:20250302T000000Z
DTEND:20250302T030000Z
X-MICROSOFT-CDO-ALLDAYEVENT:FALSE
SUMMARY:City Lights Band | The Olive Tree Diner
DESCRIPTION:City Lights performing LIVE at Olive Tree Diner!
X-ALT-DESC;FMTTYPE=text/html:<span style="font-size:18px\;"><span style="font-family:tahoma\;">City Lights performing LIVE at Olive Tree Diner!</span></span>
LOCATION:The Olive Tree Diner
UID:e.2378.25334
SEQUENCE:3
DTSTAMP:20260426T034551Z
URL:https://business.daviechamber.com/events/details/city-lights-band-the-olive-tree-diner-25334
END:VEVENT

END:VCALENDAR
