BEGIN:VCALENDAR
VERSION:2.0
PRODID:-//ChamberMaster//Event Calendar 2.0//EN
METHOD:PUBLISH
X-PUBLISHED-TTL:P3D
REFRESH-INTERVAL:P3D
CALSCALE:GREGORIAN
BEGIN:VEVENT
DTSTART:20170422T140000Z
DTEND:20170422T180000Z
X-MICROSOFT-CDO-ALLDAYEVENT:FALSE
SUMMARY:Classic Car/Truck/Tractor "Cruise-In"
DESCRIPTION:Classic Car/Truck/Tractor "Cruise-In" and show. Food and soft drinks available. Drawings for door prizes to those entering vehicles. Benefits Relay for Life/The American Cancer Society. Donations accepted. Huge indoor yard sale\, bake sale and silent auction also on site.\n\n\n\nhttp://www.relayforlife.org
X-ALT-DESC;FMTTYPE=text/html:Classic Car/Truck/Tractor &quot\;Cruise-In&quot\; and show. Food and soft drinks available. Drawings for door prizes to those entering vehicles. Benefits Relay for Life/The American Cancer Society. Donations accepted. Huge indoor yard sale\, bake sale and silent auction also on site.<br />\n<br />\n<a href="http://www.relayforlife.org">http://www.relayforlife.org</a>
LOCATION:Bethlehem United Methodist Church 321 Redland Rd Advance\, NC 27006
UID:e.2378.11528
SEQUENCE:3
DTSTAMP:20260422T085354Z
URL:https://business.daviechamber.com/events/details/classic-car-truck-tractor-cruise-in-11528
END:VEVENT

END:VCALENDAR
