BEGIN:VCALENDAR
VERSION:2.0
PRODID:-//ChamberMaster//Event Calendar 2.0//EN
METHOD:PUBLISH
X-PUBLISHED-TTL:P3D
REFRESH-INTERVAL:P3D
CALSCALE:GREGORIAN
BEGIN:VEVENT
DTSTART:20161021T140000Z
DTEND:20161021T140000Z
X-MICROSOFT-CDO-ALLDAYEVENT:FALSE
SUMMARY:ClubCorp Charity Classic
DESCRIPTION:Bermuda Run Country Club would like to invite you to participate in our 2nd Annual ClubCorp Charity Classic on Friday\, October 21\, 2016.  Last year\, we were able to raise a substantial amount of money that was evenly distributed to the Kate B. Reynolds Hospice & Palliative CareCenter\, Augie's Quest (ALS) and the Employee Partner Care Foundation (E.P.C.F.).  This year we are excited to donate to the United Way of Davie County\, Augie's Quest (ALS) and the Employee Partner Care Foundation (E.P.C.F.).  We had a great turnout last year and will need community support to have another successful event.\n\n \n\nThe United Way of Davie County gives to a number of local charities that go through a rigorous application process to receive funding. By giving to the United Way of Davie County you also support the following local non-profit charities: Big Brothers/Big Sisters\, Buckle-Up Davie\, The Dragonfly House\, Salvation Army\, Davie Family YMCA\, Just Hope\, Inc.\, Davie Domestic Violence and Rape Crisis Center\, Farmington Community Center\, Davie County Group Home\, Davie County 4-H\, Boy Scouts of America/Old North State Council\, Cancer Services\, Inc. and United Way Direct Programs including Build a Backpack and Emergency Food & Shelter Program.\n\n \n\nThe event will begin with a Captain's Choice Golf Tournament at 10:00 a.m. followed by lunch on the course. This event is open to members and non-members alike. The evening will include a Las Vegas themed party with heavy hors d'oeuvres\, live music\, dancing\, a silent auction\, and casino games. The main clubhouse will take on a festive atmosphere for an evening of great fun for all\, participants are encouraged to dress according to the theme. You will not want to miss this opportunity.\n\n \n\nTo sponsor or register for this event visit classic.als.net or call Bermuda Run Country Club at 336.998.8155
X-ALT-DESC;FMTTYPE=text/html:<p style="margin: 0in 0in 0.0001pt\; line-height: 15pt\; background-image: initial\; background-attachment: initial\; background-size: initial\; background-origin: initial\; background-clip: initial\; background-position: initial\; background-repeat: initial\;"><span style="font-size: 10.5pt\; font-family: Helvetica\, sans-serif\;">Bermuda Run Country Club&nbsp\;would like to invite you to participate in our 2nd Annual ClubCorp Charity Classic on Friday\, October 21\, 2016.&nbsp\; Last year\, we were able to raise a substantial amount of money that was evenly&nbsp\;distributed to the&nbsp\;Kate B. Reynolds Hospice &amp\; Palliative CareCenter\, Augie&rsquo\;s Quest (ALS) and the Employee Partner Care Foundation (E.P.C.F.).&nbsp\; This year we are excited to donate to the United Way of Davie County\, Augie&rsquo\;s Quest (ALS) and the Employee Partner Care Foundation (E.P.C.F.).&nbsp\; We had a great turnout last year and will need community support to have another successful event.<o:p></o:p></span></p>\n\n<p style="margin: 0in 0in 0.0001pt\; line-height: 15pt\; box-sizing: border-box\; widows: 1\; background-image: initial\; background-attachment: initial\; background-size: initial\; background-origin: initial\; background-clip: initial\; background-position: initial\; background-repeat: initial\;"><span style="font-size: 10.5pt\; font-family: Helvetica\, sans-serif\;"><o:p>&nbsp\;</o:p></span></p>\n\n<p style="margin: 0in 0in 0.0001pt\; line-height: 15pt\; box-sizing: border-box\; widows: 1\; background-image: initial\; background-attachment: initial\; background-size: initial\; background-origin: initial\; background-clip: initial\; background-position: initial\; background-repeat: initial\;"><span style="font-size: 10.5pt\; font-family: Helvetica\, sans-serif\;">The United Way of Davie County gives to a number of local charities that go through a rigorous application process to receive funding. By giving to the United Way of Davie County you also support the following local non-profit charities: Big Brothers/Big Sisters\, Buckle-Up Davie\, The Dragonfly House\, Salvation Army\, Davie Family YMCA\, Just Hope\, Inc.\, Davie Domestic Violence and Rape Crisis Center\, Farmington Community Center\, Davie County Group Home\, Davie County 4-H\, Boy Scouts of America/Old North State Council\, Cancer Services\, Inc. and United Way Direct Programs including Build a Backpack and Emergency Food &amp\; Shelter Program.<o:p></o:p></span></p>\n\n<p style="margin: 0in 0in 0.0001pt\; line-height: 15pt\; box-sizing: border-box\; widows: 1\; background-image: initial\; background-attachment: initial\; background-size: initial\; background-origin: initial\; background-clip: initial\; background-position: initial\; background-repeat: initial\;"><span style="font-size: 10.5pt\; font-family: Helvetica\, sans-serif\;"><o:p>&nbsp\;</o:p></span></p>\n\n<p style="margin: 0in 0in 0.0001pt\; line-height: 15pt\; box-sizing: border-box\; widows: 1\; background-image: initial\; background-attachment: initial\; background-size: initial\; background-origin: initial\; background-clip: initial\; background-position: initial\; background-repeat: initial\;"><span style="font-size: 10.5pt\; font-family: Helvetica\, sans-serif\;">The event will begin with a Captain&#39\;s Choice Golf Tournament at 10:00 a.m. followed by lunch on the course. This event is open to members and non-members alike. The evening will include a Las Vegas themed party with heavy hors d&rsquo\;oeuvres\, live music\, dancing\, a silent auction\, and casino games. The main clubhouse will take on a festive atmosphere for an evening of great fun for all\, participants are encouraged to dress according to the theme. You will not want to miss this opportunity.<o:p></o:p></span></p>\n\n<p style="margin: 0in 0in 0.0001pt\; line-height: 15pt\; box-sizing: border-box\; widows: 1\; background-image: initial\; background-attachment: initial\; background-size: initial\; background-origin: initial\; background-clip: initial\; background-position: initial\; background-repeat: initial\;"><span style="font-size: 10.5pt\; font-family: Helvetica\, sans-serif\;"><o:p>&nbsp\;</o:p></span></p>\n\n<p style="margin: 0in 0in 0.0001pt\; line-height: 15pt\; box-sizing: border-box\; widows: 1\; background-image: initial\; background-attachment: initial\; background-size: initial\; background-origin: initial\; background-clip: initial\; background-position: initial\; background-repeat: initial\;"><span style="font-size: 10.5pt\; font-family: Helvetica\, sans-serif\;">To sponsor or register for this event visit&nbsp\;classic.als.net or call Bermuda Run Country Club at 336.998.8155<o:p></o:p></span></p>\n
LOCATION:Bermuda Run Country Club 324 Bermuda Run Drive Bermuda Run\, NC 27006
UID:e.2378.9212
SEQUENCE:3
DTSTAMP:20260422T190941Z
URL:https://business.daviechamber.com/events/details/clubcorp-charity-classic-9212
END:VEVENT

END:VCALENDAR
